BEGIN:VCALENDAR
VERSION:2.0
PRODID:-//Campbell Tintah Public Schools - ECPv6.15.20//NONSGML v1.0//EN
CALSCALE:GREGORIAN
METHOD:PUBLISH
X-ORIGINAL-URL:https://campbell.k12.mn.us
X-WR-CALDESC:Events for Campbell Tintah Public Schools
REFRESH-INTERVAL;VALUE=DURATION:PT1H
X-Robots-Tag:noindex
X-PUBLISHED-TTL:PT1H
BEGIN:VTIMEZONE
TZID:UTC
BEGIN:STANDARD
TZOFFSETFROM:+0000
TZOFFSETTO:+0000
TZNAME:UTC
DTSTART:20210101T000000
END:STANDARD
END:VTIMEZONE
BEGIN:VEVENT
DTSTART;VALUE=DATE:20220927
DTEND;VALUE=DATE:20220928
DTSTAMP:20260424T213845
CREATED:20220901T233025Z
LAST-MODIFIED:20220915T174732Z
UID:2416-1664236800-1664323199@campbell.k12.mn.us
SUMMARY:Homecoming week Black and White Clothing Day
DESCRIPTION:Tuesday: Dress up – Black and White Clothing Day \nActivity – Flag Football\, 2nd and 3rd Hour
URL:https://campbell.k12.mn.us/event/homecoming-week-2/
END:VEVENT
BEGIN:VEVENT
DTSTART;TZID=UTC:20220927T164500
DTEND;TZID=UTC:20220927T170000
DTSTAMP:20260424T213845
CREATED:20220901T233639Z
LAST-MODIFIED:20220901T233639Z
UID:2432-1664297100-1664298000@campbell.k12.mn.us
SUMMARY:Volleyball: C Match vs Wyndmere and Lidgerwood (Home)
DESCRIPTION:
URL:https://campbell.k12.mn.us/event/volleyball-c-match-vs-wyndmere-and-lidgerwood-home/
END:VEVENT
BEGIN:VEVENT
DTSTART;TZID=UTC:20220927T180000
DTEND;TZID=UTC:20220927T180000
DTSTAMP:20260424T213845
CREATED:20220901T233724Z
LAST-MODIFIED:20220901T233724Z
UID:2434-1664301600-1664301600@campbell.k12.mn.us
SUMMARY:Volleyball: JV Match vs Wyndmere and Lidgerwood (Home)
DESCRIPTION:
URL:https://campbell.k12.mn.us/event/volleyball-jv-match-vs-wyndmere-and-lidgerwood-home/
END:VEVENT
BEGIN:VEVENT
DTSTART;TZID=UTC:20220927T191500
DTEND;TZID=UTC:20220927T191500
DTSTAMP:20260424T213845
CREATED:20220901T233811Z
LAST-MODIFIED:20220901T233811Z
UID:2436-1664306100-1664306100@campbell.k12.mn.us
SUMMARY:Volleyball: Varsity Match vs Wyndmere and Lidgerwood (Home)
DESCRIPTION:
URL:https://campbell.k12.mn.us/event/volleyball-varsity-match-vs-wyndmere-and-lidgerwood-home/
END:VEVENT
END:VCALENDAR