BEGIN:VCALENDAR
VERSION:2.0
PRODID:-//Campbell Tintah Public Schools - ECPv6.15.20//NONSGML v1.0//EN
CALSCALE:GREGORIAN
METHOD:PUBLISH
X-WR-CALNAME:Campbell Tintah Public Schools
X-ORIGINAL-URL:https://campbell.k12.mn.us
X-WR-CALDESC:Events for Campbell Tintah Public Schools
REFRESH-INTERVAL;VALUE=DURATION:PT1H
X-Robots-Tag:noindex
X-PUBLISHED-TTL:PT1H
BEGIN:VTIMEZONE
TZID:UTC
BEGIN:STANDARD
TZOFFSETFROM:+0000
TZOFFSETTO:+0000
TZNAME:UTC
DTSTART:20210101T000000
END:STANDARD
END:VTIMEZONE
BEGIN:VEVENT
DTSTART;VALUE=DATE:20220928
DTEND;VALUE=DATE:20220929
DTSTAMP:20260424T213731
CREATED:20220901T233052Z
LAST-MODIFIED:20220915T174824Z
UID:2418-1664323200-1664409599@campbell.k12.mn.us
SUMMARY:Homecoming week Sports Day
DESCRIPTION:Wednesday: Dress up – Sports Day \nActivity – Scavenger Hunt\, 6th Hour
URL:https://campbell.k12.mn.us/event/homecoming-week-3/
END:VEVENT
END:VCALENDAR