BEGIN:VCALENDAR
VERSION:2.0
PRODID:-//Campbell Tintah Public Schools - ECPv6.15.20//NONSGML v1.0//EN
CALSCALE:GREGORIAN
METHOD:PUBLISH
X-WR-CALNAME:Campbell Tintah Public Schools
X-ORIGINAL-URL:https://campbell.k12.mn.us
X-WR-CALDESC:Events for Campbell Tintah Public Schools
REFRESH-INTERVAL;VALUE=DURATION:PT1H
X-Robots-Tag:noindex
X-PUBLISHED-TTL:PT1H
BEGIN:VTIMEZONE
TZID:UTC
BEGIN:STANDARD
TZOFFSETFROM:+0000
TZOFFSETTO:+0000
TZNAME:UTC
DTSTART:20210101T000000
END:STANDARD
END:VTIMEZONE
BEGIN:VEVENT
DTSTART;TZID=UTC:20221005T090000
DTEND;TZID=UTC:20221005T130000
DTSTAMP:20260424T213716
CREATED:20220909T002443Z
LAST-MODIFIED:20220909T002443Z
UID:2754-1664960400-1664974800@campbell.k12.mn.us
SUMMARY:October 5th  9-1 Manufacturing and Ag day at NDSCS Sophomores
DESCRIPTION:
URL:https://campbell.k12.mn.us/event/october-5th-9-1-manufacturing-and-ag-day-at-ndscs-sophomores/
END:VEVENT
BEGIN:VEVENT
DTSTART;TZID=UTC:20221005T130000
DTEND;TZID=UTC:20221005T140000
DTSTAMP:20260424T213716
CREATED:20220909T002552Z
LAST-MODIFIED:20220909T002552Z
UID:2756-1664974800-1664978400@campbell.k12.mn.us
SUMMARY:October 5th 1-2 NDSCS Campus tour Sophomores
DESCRIPTION:
URL:https://campbell.k12.mn.us/event/october-5th-1-2-ndscs-campus-tour-sophomores/
END:VEVENT
END:VCALENDAR