BEGIN:VCALENDAR
VERSION:2.0
PRODID:-//Campbell Tintah Public Schools - ECPv6.15.20//NONSGML v1.0//EN
CALSCALE:GREGORIAN
METHOD:PUBLISH
X-ORIGINAL-URL:https://campbell.k12.mn.us
X-WR-CALDESC:Events for Campbell Tintah Public Schools
REFRESH-INTERVAL;VALUE=DURATION:PT1H
X-Robots-Tag:noindex
X-PUBLISHED-TTL:PT1H
BEGIN:VTIMEZONE
TZID:UTC
BEGIN:STANDARD
TZOFFSETFROM:+0000
TZOFFSETTO:+0000
TZNAME:UTC
DTSTART:20210101T000000
END:STANDARD
END:VTIMEZONE
BEGIN:VEVENT
DTSTART;TZID=UTC:20221012T200000
DTEND;TZID=UTC:20221012T200000
DTSTAMP:20260424T213751
CREATED:20220917T015528Z
LAST-MODIFIED:20221010T204541Z
UID:2826-1665604800-1665604800@campbell.k12.mn.us
SUMMARY:School board meeting 8PM - POSTPONED to October 19th at 8pm
DESCRIPTION:
URL:https://campbell.k12.mn.us/event/school-board-meeting-8pm/
END:VEVENT
END:VCALENDAR