BEGIN:VCALENDAR
VERSION:2.0
PRODID:-//Campbell Tintah Public Schools - ECPv6.15.20//NONSGML v1.0//EN
CALSCALE:GREGORIAN
METHOD:PUBLISH
X-WR-CALNAME:Campbell Tintah Public Schools
X-ORIGINAL-URL:https://campbell.k12.mn.us
X-WR-CALDESC:Events for Campbell Tintah Public Schools
REFRESH-INTERVAL;VALUE=DURATION:PT1H
X-Robots-Tag:noindex
X-PUBLISHED-TTL:PT1H
BEGIN:VTIMEZONE
TZID:UTC
BEGIN:STANDARD
TZOFFSETFROM:+0000
TZOFFSETTO:+0000
TZNAME:UTC
DTSTART:20210101T000000
END:STANDARD
END:VTIMEZONE
BEGIN:VEVENT
DTSTART;TZID=UTC:20221013T130000
DTEND;TZID=UTC:20221013T170000
DTSTAMP:20260424T213713
CREATED:20220902T011637Z
LAST-MODIFIED:20220902T011637Z
UID:2474-1665666000-1665680400@campbell.k12.mn.us
SUMMARY:Cross Country Region Meet at Webster Webster Golf Club\, 1030 W 3rd St\, Webster\, SD 57274\, USA
DESCRIPTION:
URL:https://campbell.k12.mn.us/event/cross-country-region-meet-at-webster-webster-golf-club-1030-w-3rd-st-webster-sd-57274-usa/
END:VEVENT
BEGIN:VEVENT
DTSTART;TZID=UTC:20221013T163000
DTEND;TZID=UTC:20221013T170000
DTSTAMP:20260424T213713
CREATED:20220928T165344Z
LAST-MODIFIED:20220928T165344Z
UID:2879-1665678600-1665680400@campbell.k12.mn.us
SUMMARY:Elem girls basketball Rosholt @ Campbell 4:30
DESCRIPTION:
URL:https://campbell.k12.mn.us/event/elem-girls-basketball-rosholt-campbell-430/
END:VEVENT
BEGIN:VEVENT
DTSTART;TZID=UTC:20221013T180000
DTEND;TZID=UTC:20221013T180000
DTSTAMP:20260424T213713
CREATED:20220902T011711Z
LAST-MODIFIED:20220902T011711Z
UID:2476-1665684000-1665684000@campbell.k12.mn.us
SUMMARY:Volleyball: JV Game vs Waubay-Summit (Away) @ Summit High School
DESCRIPTION:
URL:https://campbell.k12.mn.us/event/volleyball-jv-game-vs-waubay-summit-away-summit-high-school/
END:VEVENT
BEGIN:VEVENT
DTSTART;TZID=UTC:20221013T191500
DTEND;TZID=UTC:20221013T191500
DTSTAMP:20260424T213713
CREATED:20220902T011746Z
LAST-MODIFIED:20220902T011746Z
UID:2478-1665688500-1665688500@campbell.k12.mn.us
SUMMARY:Volleyball: Varsity Game vs Waubay-Summit (Away) Type: nonconference Opponent: Waubay-Summit Summit High School
DESCRIPTION:
URL:https://campbell.k12.mn.us/event/volleyball-varsity-game-vs-waubay-summit-away-type-nonconference-opponent-waubay-summit-summit-high-school/
END:VEVENT
END:VCALENDAR