BEGIN:VCALENDAR
VERSION:2.0
PRODID:-//Campbell Tintah Public Schools - ECPv6.15.20//NONSGML v1.0//EN
CALSCALE:GREGORIAN
METHOD:PUBLISH
X-ORIGINAL-URL:https://campbell.k12.mn.us
X-WR-CALDESC:Events for Campbell Tintah Public Schools
REFRESH-INTERVAL;VALUE=DURATION:PT1H
X-Robots-Tag:noindex
X-PUBLISHED-TTL:PT1H
BEGIN:VTIMEZONE
TZID:UTC
BEGIN:STANDARD
TZOFFSETFROM:+0000
TZOFFSETTO:+0000
TZNAME:UTC
DTSTART:20210101T000000
END:STANDARD
END:VTIMEZONE
BEGIN:VEVENT
DTSTART;TZID=UTC:20221017T163000
DTEND;TZID=UTC:20221017T170000
DTSTAMP:20260424T213731
CREATED:20220928T165549Z
LAST-MODIFIED:20220928T165549Z
UID:2883-1666024200-1666026000@campbell.k12.mn.us
SUMMARY:Elem girls basketball vs Hankinson @ Hankinson 4:30
DESCRIPTION:
URL:https://campbell.k12.mn.us/event/elem-girls-basketball-vs-hankinson-hankinson-430/
END:VEVENT
BEGIN:VEVENT
DTSTART;TZID=UTC:20221017T180000
DTEND;TZID=UTC:20221017T180000
DTSTAMP:20260424T213731
CREATED:20220902T011845Z
LAST-MODIFIED:20221014T164741Z
UID:2480-1666029600-1666029600@campbell.k12.mn.us
SUMMARY:Volleyball: JV Game vs Wilmot (Home)  @ Fairmount High School
DESCRIPTION:
URL:https://campbell.k12.mn.us/event/volleyball-jv-game-vs-wilmot-home-rosholt-high-school/
END:VEVENT
BEGIN:VEVENT
DTSTART;TZID=UTC:20221017T191500
DTEND;TZID=UTC:20221017T191500
DTSTAMP:20260424T213731
CREATED:20220902T011921Z
LAST-MODIFIED:20221014T164844Z
UID:2482-1666034100-1666034100@campbell.k12.mn.us
SUMMARY:Volleyball: Varsity Game vs Wilmot (Home) @ Fairmount High School
DESCRIPTION:
URL:https://campbell.k12.mn.us/event/volleyball-varsity-game-vs-wilmot-home-rosholt-high-school/
END:VEVENT
END:VCALENDAR