BEGIN:VCALENDAR
VERSION:2.0
PRODID:-//Campbell Tintah Public Schools - ECPv6.15.20//NONSGML v1.0//EN
CALSCALE:GREGORIAN
METHOD:PUBLISH
X-ORIGINAL-URL:https://campbell.k12.mn.us
X-WR-CALDESC:Events for Campbell Tintah Public Schools
REFRESH-INTERVAL;VALUE=DURATION:PT1H
X-Robots-Tag:noindex
X-PUBLISHED-TTL:PT1H
BEGIN:VTIMEZONE
TZID:UTC
BEGIN:STANDARD
TZOFFSETFROM:+0000
TZOFFSETTO:+0000
TZNAME:UTC
DTSTART:20210101T000000
END:STANDARD
END:VTIMEZONE
BEGIN:VEVENT
DTSTART;TZID=UTC:20221019T080000
DTEND;TZID=UTC:20221019T170000
DTSTAMP:20260424T213752
CREATED:20221005T224932Z
LAST-MODIFIED:20221006T222516Z
UID:3118-1666166400-1666198800@campbell.k12.mn.us
SUMMARY:Blood Drive
DESCRIPTION:There will be a Blood Drive hosted in Campbell on October 19th at the Community Center from 12:45pm until 5:00pm! To sign up for the blood drive\, please sign up online at \nPortal .::. Sites (vitalant.org) \nIf you have any questions\, or you would like to sign up over the phone\, please contact Mr. Bodin\,  at (218) 303-5495.
URL:https://campbell.k12.mn.us/event/blood-drive/
END:VEVENT
BEGIN:VEVENT
DTSTART;TZID=UTC:20221019T080000
DTEND;TZID=UTC:20221019T200000
DTSTAMP:20260424T213752
CREATED:20221010T204614Z
LAST-MODIFIED:20221010T204614Z
UID:3158-1666166400-1666209600@campbell.k12.mn.us
SUMMARY:School Board Meeting - 8:00
DESCRIPTION:
URL:https://campbell.k12.mn.us/event/school-board-meeting-800/
END:VEVENT
END:VCALENDAR