BEGIN:VCALENDAR
VERSION:2.0
PRODID:-//Campbell Tintah Public Schools - ECPv6.15.20//NONSGML v1.0//EN
CALSCALE:GREGORIAN
METHOD:PUBLISH
X-ORIGINAL-URL:https://campbell.k12.mn.us
X-WR-CALDESC:Events for Campbell Tintah Public Schools
REFRESH-INTERVAL;VALUE=DURATION:PT1H
X-Robots-Tag:noindex
X-PUBLISHED-TTL:PT1H
BEGIN:VTIMEZONE
TZID:UTC
BEGIN:STANDARD
TZOFFSETFROM:+0000
TZOFFSETTO:+0000
TZNAME:UTC
DTSTART:20210101T000000
END:STANDARD
END:VTIMEZONE
BEGIN:VEVENT
DTSTART;VALUE=DATE:20221022
DTEND;VALUE=DATE:20221023
DTSTAMP:20260424T213750
CREATED:20220902T011946Z
LAST-MODIFIED:20220902T011946Z
UID:2484-1666396800-1666483199@campbell.k12.mn.us
SUMMARY:Cross Country State Meet Broadland Creek Golf Course\, 118 22nd St NW\, Huron\, SD 57350\, USA
DESCRIPTION:
URL:https://campbell.k12.mn.us/event/cross-country-state-meet-broadland-creek-golf-course-118-22nd-st-nw-huron-sd-57350-usa/
END:VEVENT
END:VCALENDAR