BEGIN:VCALENDAR
VERSION:2.0
PRODID:-//Campbell Tintah Public Schools - ECPv6.15.20//NONSGML v1.0//EN
CALSCALE:GREGORIAN
METHOD:PUBLISH
X-ORIGINAL-URL:https://campbell.k12.mn.us
X-WR-CALDESC:Events for Campbell Tintah Public Schools
REFRESH-INTERVAL;VALUE=DURATION:PT1H
X-Robots-Tag:noindex
X-PUBLISHED-TTL:PT1H
BEGIN:VTIMEZONE
TZID:UTC
BEGIN:STANDARD
TZOFFSETFROM:+0000
TZOFFSETTO:+0000
TZNAME:UTC
DTSTART:20210101T000000
END:STANDARD
END:VTIMEZONE
BEGIN:VEVENT
DTSTART;TZID=UTC:20221025T090000
DTEND;TZID=UTC:20221025T130000
DTSTAMP:20260424T213751
CREATED:20220909T004035Z
LAST-MODIFIED:20220909T004035Z
UID:2760-1666688400-1666702800@campbell.k12.mn.us
SUMMARY:October 25th 9-1 IDB (Imagine Design and Build) Day at NDSCS Juniors and Seniors
DESCRIPTION:
URL:https://campbell.k12.mn.us/event/october-25th-9-1-idb-imagine-design-and-build-day-at-ndscs-juniors-and-seniors/
END:VEVENT
BEGIN:VEVENT
DTSTART;TZID=UTC:20221025T163000
DTEND;TZID=UTC:20221025T170000
DTSTAMP:20260424T213751
CREATED:20220928T195255Z
LAST-MODIFIED:20220928T195255Z
UID:2894-1666715400-1666717200@campbell.k12.mn.us
SUMMARY:Elem girls basketball vs Wyndmere @ Fairmount 4:30
DESCRIPTION:
URL:https://campbell.k12.mn.us/event/elem-girls-basketball-vs-wyndmere-fairmount-430/
END:VEVENT
BEGIN:VEVENT
DTSTART;TZID=UTC:20221025T164500
DTEND;TZID=UTC:20221025T170000
DTSTAMP:20260424T213751
CREATED:20220902T012022Z
LAST-MODIFIED:20220902T012022Z
UID:2486-1666716300-1666717200@campbell.k12.mn.us
SUMMARY:Volleyball: C Match vs Enderlin (Home)
DESCRIPTION:
URL:https://campbell.k12.mn.us/event/volleyball-c-match-vs-enderlin-home/
END:VEVENT
BEGIN:VEVENT
DTSTART;TZID=UTC:20221025T180000
DTEND;TZID=UTC:20221025T180000
DTSTAMP:20260424T213751
CREATED:20220902T012100Z
LAST-MODIFIED:20220902T012100Z
UID:2488-1666720800-1666720800@campbell.k12.mn.us
SUMMARY:Volleyball: JV Match vs Enderlin (Home) Type: conference Opponent: Enderlin Tri-State Tigers
DESCRIPTION:
URL:https://campbell.k12.mn.us/event/volleyball-jv-match-vs-enderlin-home-type-conference-opponent-enderlin-tri-state-tigers/
END:VEVENT
BEGIN:VEVENT
DTSTART;TZID=UTC:20221025T191500
DTEND;TZID=UTC:20221025T191500
DTSTAMP:20260424T213751
CREATED:20220902T013103Z
LAST-MODIFIED:20220902T013103Z
UID:2490-1666725300-1666725300@campbell.k12.mn.us
SUMMARY:Volleyball: Varsity Match vs Enderlin (Home) @ Campbell High School
DESCRIPTION:
URL:https://campbell.k12.mn.us/event/volleyball-varsity-match-vs-enderlin-home-campbell-high-school/
END:VEVENT
END:VCALENDAR