BEGIN:VCALENDAR
VERSION:2.0
PRODID:-//Campbell Tintah Public Schools - ECPv6.15.20//NONSGML v1.0//EN
CALSCALE:GREGORIAN
METHOD:PUBLISH
X-ORIGINAL-URL:https://campbell.k12.mn.us
X-WR-CALDESC:Events for Campbell Tintah Public Schools
REFRESH-INTERVAL;VALUE=DURATION:PT1H
X-Robots-Tag:noindex
X-PUBLISHED-TTL:PT1H
BEGIN:VTIMEZONE
TZID:UTC
BEGIN:STANDARD
TZOFFSETFROM:+0000
TZOFFSETTO:+0000
TZNAME:UTC
DTSTART:20210101T000000
END:STANDARD
END:VTIMEZONE
BEGIN:VEVENT
DTSTART;TZID=UTC:20221027T163000
DTEND;TZID=UTC:20221027T170000
DTSTAMP:20260424T213751
CREATED:20220928T195421Z
LAST-MODIFIED:20220928T195421Z
UID:2896-1666888200-1666890000@campbell.k12.mn.us
SUMMARY:Elem girls basketball vs Hankinson @ Fairmount 4:30
DESCRIPTION:
URL:https://campbell.k12.mn.us/event/elem-girls-basketball-vs-hankinson-fairmount-430/
END:VEVENT
BEGIN:VEVENT
DTSTART;TZID=UTC:20221027T164500
DTEND;TZID=UTC:20221027T170000
DTSTAMP:20260424T213751
CREATED:20220902T013309Z
LAST-MODIFIED:20220902T013309Z
UID:2492-1666889100-1666890000@campbell.k12.mn.us
SUMMARY:Volleyball: C Match vs Sargent County (Away)  @ North Sargent High School
DESCRIPTION:
URL:https://campbell.k12.mn.us/event/volleyball-c-match-vs-sargent-county-away-north-sargent-high-school/
END:VEVENT
BEGIN:VEVENT
DTSTART;TZID=UTC:20221027T180000
DTEND;TZID=UTC:20221027T180000
DTSTAMP:20260424T213751
CREATED:20220902T013427Z
LAST-MODIFIED:20220902T013427Z
UID:2494-1666893600-1666893600@campbell.k12.mn.us
SUMMARY:Volleyball: JV Match vs Sargent County (Away) @ North Sargent High School
DESCRIPTION:
URL:https://campbell.k12.mn.us/event/volleyball-jv-match-vs-sargent-county-away-north-sargent-high-school/
END:VEVENT
BEGIN:VEVENT
DTSTART;TZID=UTC:20221027T191500
DTEND;TZID=UTC:20221027T191500
DTSTAMP:20260424T213751
CREATED:20220902T013638Z
LAST-MODIFIED:20220902T013638Z
UID:2496-1666898100-1666898100@campbell.k12.mn.us
SUMMARY:Volleyball: Varsity Match vs Sargent County (Away)  @North Sargent High School
DESCRIPTION:
URL:https://campbell.k12.mn.us/event/volleyball-varsity-match-vs-sargent-county-away-north-sargent-high-school/
END:VEVENT
END:VCALENDAR