BEGIN:VCALENDAR
VERSION:2.0
PRODID:-//Campbell Tintah Public Schools - ECPv6.15.20//NONSGML v1.0//EN
CALSCALE:GREGORIAN
METHOD:PUBLISH
X-ORIGINAL-URL:https://campbell.k12.mn.us
X-WR-CALDESC:Events for Campbell Tintah Public Schools
REFRESH-INTERVAL;VALUE=DURATION:PT1H
X-Robots-Tag:noindex
X-PUBLISHED-TTL:PT1H
BEGIN:VTIMEZONE
TZID:UTC
BEGIN:STANDARD
TZOFFSETFROM:+0000
TZOFFSETTO:+0000
TZNAME:UTC
DTSTART:20210101T000000
END:STANDARD
END:VTIMEZONE
BEGIN:VEVENT
DTSTART;VALUE=DATE:20221028
DTEND;VALUE=DATE:20221029
DTSTAMP:20260424T213729
CREATED:20220928T034810Z
LAST-MODIFIED:20220928T034810Z
UID:2856-1666915200-1667001599@campbell.k12.mn.us
SUMMARY:Junior Class Fundraiser Ends
DESCRIPTION:
URL:https://campbell.k12.mn.us/event/junior-class-fundraiser-ends/
END:VEVENT
BEGIN:VEVENT
DTSTART;TZID=UTC:20221028T163000
DTEND;TZID=UTC:20221028T170000
DTSTAMP:20260424T213729
CREATED:20220928T195541Z
LAST-MODIFIED:20220928T195541Z
UID:2898-1666974600-1666976400@campbell.k12.mn.us
SUMMARY:Elem girls basketball vs Rosholt 4:30
DESCRIPTION:
URL:https://campbell.k12.mn.us/event/elem-girls-basketball-vs-rosholt-430/
END:VEVENT
END:VCALENDAR