BEGIN:VCALENDAR
VERSION:2.0
PRODID:-//Campbell Tintah Public Schools - ECPv6.15.20//NONSGML v1.0//EN
CALSCALE:GREGORIAN
METHOD:PUBLISH
X-WR-CALNAME:Campbell Tintah Public Schools
X-ORIGINAL-URL:https://campbell.k12.mn.us
X-WR-CALDESC:Events for Campbell Tintah Public Schools
REFRESH-INTERVAL;VALUE=DURATION:PT1H
X-Robots-Tag:noindex
X-PUBLISHED-TTL:PT1H
BEGIN:VTIMEZONE
TZID:UTC
BEGIN:STANDARD
TZOFFSETFROM:+0000
TZOFFSETTO:+0000
TZNAME:UTC
DTSTART:20210101T000000
END:STANDARD
END:VTIMEZONE
BEGIN:VEVENT
DTSTART;TZID=UTC:20221109T080000
DTEND;TZID=UTC:20221109T170000
DTSTAMP:20260424T201839
CREATED:20220917T015914Z
LAST-MODIFIED:20221103T230812Z
UID:2828-1667980800-1668013200@campbell.k12.mn.us
SUMMARY:School board meeting 6:30 PM
DESCRIPTION:
URL:https://campbell.k12.mn.us/event/school-board-meeting-8pm-2/
END:VEVENT
END:VCALENDAR