BEGIN:VCALENDAR
VERSION:2.0
PRODID:-//Campbell Tintah Public Schools - ECPv6.15.20//NONSGML v1.0//EN
CALSCALE:GREGORIAN
METHOD:PUBLISH
X-ORIGINAL-URL:https://campbell.k12.mn.us
X-WR-CALDESC:Events for Campbell Tintah Public Schools
REFRESH-INTERVAL;VALUE=DURATION:PT1H
X-Robots-Tag:noindex
X-PUBLISHED-TTL:PT1H
BEGIN:VTIMEZONE
TZID:UTC
BEGIN:STANDARD
TZOFFSETFROM:+0000
TZOFFSETTO:+0000
TZNAME:UTC
DTSTART:20210101T000000
END:STANDARD
END:VTIMEZONE
BEGIN:VEVENT
DTSTART;TZID=UTC:20221129T164500
DTEND;TZID=UTC:20221129T170000
DTSTAMP:20260424T184807
CREATED:20220902T021101Z
LAST-MODIFIED:20220902T021101Z
UID:2505-1669740300-1669741200@campbell.k12.mn.us
SUMMARY:Basketball: Girls C Game vs Kindred (Home)
DESCRIPTION:
URL:https://campbell.k12.mn.us/event/basketball-girls-c-game-vs-kindred-home/
END:VEVENT
BEGIN:VEVENT
DTSTART;TZID=UTC:20221129T180000
DTEND;TZID=UTC:20221129T180000
DTSTAMP:20260424T184807
CREATED:20220902T021203Z
LAST-MODIFIED:20220902T021226Z
UID:2507-1669744800-1669744800@campbell.k12.mn.us
SUMMARY:Basketball: Girls JV Game vs Kindred (Home)
DESCRIPTION:
URL:https://campbell.k12.mn.us/event/basketball-girls-jv-game-vs-kindred-home/
END:VEVENT
BEGIN:VEVENT
DTSTART;TZID=UTC:20221129T193000
DTEND;TZID=UTC:20221129T193000
DTSTAMP:20260424T184807
CREATED:20220902T021303Z
LAST-MODIFIED:20220902T021303Z
UID:2509-1669750200-1669750200@campbell.k12.mn.us
SUMMARY:Basketball: Girls Varsity Game vs Kindred (Home) Type: conference Opponent: Kindred Tri-State Tigers
DESCRIPTION:
URL:https://campbell.k12.mn.us/event/basketball-girls-varsity-game-vs-kindred-home-type-conference-opponent-kindred-tri-state-tigers/
END:VEVENT
END:VCALENDAR