BEGIN:VCALENDAR
VERSION:2.0
PRODID:-//Campbell Tintah Public Schools - ECPv6.15.20//NONSGML v1.0//EN
CALSCALE:GREGORIAN
METHOD:PUBLISH
X-ORIGINAL-URL:https://campbell.k12.mn.us
X-WR-CALDESC:Events for Campbell Tintah Public Schools
REFRESH-INTERVAL;VALUE=DURATION:PT1H
X-Robots-Tag:noindex
X-PUBLISHED-TTL:PT1H
BEGIN:VTIMEZONE
TZID:UTC
BEGIN:STANDARD
TZOFFSETFROM:+0000
TZOFFSETTO:+0000
TZNAME:UTC
DTSTART:20220101T000000
END:STANDARD
END:VTIMEZONE
BEGIN:VEVENT
DTSTART;TZID=UTC:20230113T080000
DTEND;TZID=UTC:20230113T170000
DTSTAMP:20260424T172258
CREATED:20220902T202034Z
LAST-MODIFIED:20220902T202034Z
UID:2569-1673596800-1673629200@campbell.k12.mn.us
SUMMARY:Basketball: Boys C Game vs Hankinson (Away) @ Hankinson High School
DESCRIPTION:
URL:https://campbell.k12.mn.us/event/basketball-boys-c-game-vs-hankinson-away-hankinson-high-school/
END:VEVENT
BEGIN:VEVENT
DTSTART;TZID=UTC:20230113T180000
DTEND;TZID=UTC:20230113T180000
DTSTAMP:20260424T172258
CREATED:20220902T202126Z
LAST-MODIFIED:20220902T202126Z
UID:2571-1673632800-1673632800@campbell.k12.mn.us
SUMMARY:Basketball: Boys JV Game vs Hankinson (Away) @ Hankinson High School
DESCRIPTION:
URL:https://campbell.k12.mn.us/event/basketball-boys-jv-game-vs-hankinson-away-hankinson-high-school/
END:VEVENT
END:VCALENDAR