BEGIN:VCALENDAR
VERSION:2.0
PRODID:-//Campbell Tintah Public Schools - ECPv6.15.20//NONSGML v1.0//EN
CALSCALE:GREGORIAN
METHOD:PUBLISH
X-WR-CALNAME:Campbell Tintah Public Schools
X-ORIGINAL-URL:https://campbell.k12.mn.us
X-WR-CALDESC:Events for Campbell Tintah Public Schools
REFRESH-INTERVAL;VALUE=DURATION:PT1H
X-Robots-Tag:noindex
X-PUBLISHED-TTL:PT1H
BEGIN:VTIMEZONE
TZID:UTC
BEGIN:STANDARD
TZOFFSETFROM:+0000
TZOFFSETTO:+0000
TZNAME:UTC
DTSTART:20220101T000000
END:STANDARD
END:VTIMEZONE
BEGIN:VEVENT
DTSTART;TZID=UTC:20230119T164500
DTEND;TZID=UTC:20230119T170000
DTSTAMP:20260424T172242
CREATED:20220902T202419Z
LAST-MODIFIED:20220902T202419Z
UID:2579-1674146700-1674147600@campbell.k12.mn.us
SUMMARY:Basketball: Girls C Game vs Wyndmere and Lidgerwood (Away) @ Wyndmere High School
DESCRIPTION:
URL:https://campbell.k12.mn.us/event/basketball-girls-c-game-vs-wyndmere-and-lidgerwood-away-wyndmere-high-school/
END:VEVENT
BEGIN:VEVENT
DTSTART;TZID=UTC:20230119T180000
DTEND;TZID=UTC:20230119T180000
DTSTAMP:20260424T172242
CREATED:20220902T203051Z
LAST-MODIFIED:20220902T203051Z
UID:2583-1674151200-1674151200@campbell.k12.mn.us
SUMMARY:Basketball: Girls JV Game vs Wyndmere and Lidgerwood (Away) @ Wyndmere High School
DESCRIPTION:
URL:https://campbell.k12.mn.us/event/basketball-girls-jv-game-vs-wyndmere-and-lidgerwood-away-wyndmere-high-school/
END:VEVENT
BEGIN:VEVENT
DTSTART;TZID=UTC:20230119T193000
DTEND;TZID=UTC:20230119T193000
DTSTAMP:20260424T172242
CREATED:20220902T203128Z
LAST-MODIFIED:20220902T203128Z
UID:2585-1674156600-1674156600@campbell.k12.mn.us
SUMMARY:Basketball: Girls Varsity Game vs Wyndmere and Lidgerwood (Away) @ Wyndmere High School
DESCRIPTION:
URL:https://campbell.k12.mn.us/event/basketball-girls-varsity-game-vs-wyndmere-and-lidgerwood-away-wyndmere-high-school/
END:VEVENT
END:VCALENDAR