BEGIN:VCALENDAR
VERSION:2.0
PRODID:-//Campbell Tintah Public Schools - ECPv6.15.20//NONSGML v1.0//EN
CALSCALE:GREGORIAN
METHOD:PUBLISH
X-WR-CALNAME:Campbell Tintah Public Schools
X-ORIGINAL-URL:https://campbell.k12.mn.us
X-WR-CALDESC:Events for Campbell Tintah Public Schools
REFRESH-INTERVAL;VALUE=DURATION:PT1H
X-Robots-Tag:noindex
X-PUBLISHED-TTL:PT1H
BEGIN:VTIMEZONE
TZID:UTC
BEGIN:STANDARD
TZOFFSETFROM:+0000
TZOFFSETTO:+0000
TZNAME:UTC
DTSTART:20220101T000000
END:STANDARD
END:VTIMEZONE
BEGIN:VEVENT
DTSTART;TZID=UTC:20230120T164500
DTEND;TZID=UTC:20230120T170000
DTSTAMP:20260424T172244
CREATED:20220902T203212Z
LAST-MODIFIED:20220902T203212Z
UID:2587-1674233100-1674234000@campbell.k12.mn.us
SUMMARY:Basketball: Boys C Game vs Wyndmere and Lidgerwood (Away) @ Lidgerwood High School
DESCRIPTION:
URL:https://campbell.k12.mn.us/event/basketball-boys-c-game-vs-wyndmere-and-lidgerwood-away-lidgerwood-high-school/
END:VEVENT
BEGIN:VEVENT
DTSTART;TZID=UTC:20230120T180000
DTEND;TZID=UTC:20230120T180000
DTSTAMP:20260424T172244
CREATED:20220902T203250Z
LAST-MODIFIED:20220902T203250Z
UID:2589-1674237600-1674237600@campbell.k12.mn.us
SUMMARY:Basketball: Boys JV Game vs Wyndmere and Lidgerwood (Away) @ Lidgerwood High School
DESCRIPTION:
URL:https://campbell.k12.mn.us/event/basketball-boys-jv-game-vs-wyndmere-and-lidgerwood-away-lidgerwood-high-school/
END:VEVENT
BEGIN:VEVENT
DTSTART;TZID=UTC:20230120T193000
DTEND;TZID=UTC:20230120T193000
DTSTAMP:20260424T172244
CREATED:20220902T203327Z
LAST-MODIFIED:20220902T203327Z
UID:2591-1674243000-1674243000@campbell.k12.mn.us
SUMMARY:Basketball: Boys Varsity Game vs Wyndmere and Lidgerwood (Away) @ Lidgerwood High School
DESCRIPTION:
URL:https://campbell.k12.mn.us/event/basketball-boys-varsity-game-vs-wyndmere-and-lidgerwood-away-lidgerwood-high-school/
END:VEVENT
END:VCALENDAR