BEGIN:VCALENDAR
VERSION:2.0
PRODID:-//Campbell Tintah Public Schools - ECPv6.15.20//NONSGML v1.0//EN
CALSCALE:GREGORIAN
METHOD:PUBLISH
X-WR-CALNAME:Campbell Tintah Public Schools
X-ORIGINAL-URL:https://campbell.k12.mn.us
X-WR-CALDESC:Events for Campbell Tintah Public Schools
REFRESH-INTERVAL;VALUE=DURATION:PT1H
X-Robots-Tag:noindex
X-PUBLISHED-TTL:PT1H
BEGIN:VTIMEZONE
TZID:UTC
BEGIN:STANDARD
TZOFFSETFROM:+0000
TZOFFSETTO:+0000
TZNAME:UTC
DTSTART:20220101T000000
END:STANDARD
END:VTIMEZONE
BEGIN:VEVENT
DTSTART;TZID=UTC:20230125T080000
DTEND;TZID=UTC:20230125T120000
DTSTAMP:20260424T172241
CREATED:20230118T210240Z
LAST-MODIFIED:20230118T212906Z
UID:4562-1674633600-1674648000@campbell.k12.mn.us
SUMMARY:Prom Planning Meeting in Fairmount 8:20-11:50am
DESCRIPTION:Junior class: The prom planning meeting has been rescheduled for Wednesday\, January 25 from 8:20-11:50 a.m. in Fairmount.
URL:https://campbell.k12.mn.us/event/prom-planning-meeting-in-fairmount-820-1150am/
END:VEVENT
END:VCALENDAR