BEGIN:VCALENDAR
VERSION:2.0
PRODID:-//Campbell Tintah Public Schools - ECPv6.15.20//NONSGML v1.0//EN
CALSCALE:GREGORIAN
METHOD:PUBLISH
X-ORIGINAL-URL:https://campbell.k12.mn.us
X-WR-CALDESC:Events for Campbell Tintah Public Schools
REFRESH-INTERVAL;VALUE=DURATION:PT1H
X-Robots-Tag:noindex
X-PUBLISHED-TTL:PT1H
BEGIN:VTIMEZONE
TZID:UTC
BEGIN:STANDARD
TZOFFSETFROM:+0000
TZOFFSETTO:+0000
TZNAME:UTC
DTSTART:20220101T000000
END:STANDARD
END:VTIMEZONE
BEGIN:VEVENT
DTSTART;TZID=UTC:20230126T164500
DTEND;TZID=UTC:20230126T170000
DTSTAMP:20260424T172300
CREATED:20220902T203844Z
LAST-MODIFIED:20220902T203844Z
UID:2599-1674751500-1674752400@campbell.k12.mn.us
SUMMARY:Basketball: Boys C Game vs Richland (Away) @ Richland High School
DESCRIPTION:
URL:https://campbell.k12.mn.us/event/basketball-boys-c-game-vs-richland-away-richland-high-school/
END:VEVENT
BEGIN:VEVENT
DTSTART;TZID=UTC:20230126T183000
DTEND;TZID=UTC:20230126T183000
DTSTAMP:20260424T172300
CREATED:20220902T203919Z
LAST-MODIFIED:20220902T203919Z
UID:2601-1674757800-1674757800@campbell.k12.mn.us
SUMMARY:Basketball: Boys JV Game vs Richland (Away) @ Richland High School
DESCRIPTION:
URL:https://campbell.k12.mn.us/event/basketball-boys-jv-game-vs-richland-away-richland-high-school/
END:VEVENT
BEGIN:VEVENT
DTSTART;TZID=UTC:20230126T193000
DTEND;TZID=UTC:20230126T193000
DTSTAMP:20260424T172300
CREATED:20220902T203956Z
LAST-MODIFIED:20220902T203956Z
UID:2603-1674761400-1674761400@campbell.k12.mn.us
SUMMARY:Basketball: Boys Varsity Game vs Richland (Away) @ Richland High School
DESCRIPTION:
URL:https://campbell.k12.mn.us/event/basketball-boys-varsity-game-vs-richland-away-richland-high-school/
END:VEVENT
END:VCALENDAR