BEGIN:VCALENDAR
VERSION:2.0
PRODID:-//Campbell Tintah Public Schools - ECPv6.15.20//NONSGML v1.0//EN
CALSCALE:GREGORIAN
METHOD:PUBLISH
X-ORIGINAL-URL:https://campbell.k12.mn.us
X-WR-CALDESC:Events for Campbell Tintah Public Schools
REFRESH-INTERVAL;VALUE=DURATION:PT1H
X-Robots-Tag:noindex
X-PUBLISHED-TTL:PT1H
BEGIN:VTIMEZONE
TZID:UTC
BEGIN:STANDARD
TZOFFSETFROM:+0000
TZOFFSETTO:+0000
TZNAME:UTC
DTSTART:20220101T000000
END:STANDARD
END:VTIMEZONE
BEGIN:VEVENT
DTSTART;TZID=UTC:20230127T164500
DTEND;TZID=UTC:20230127T170000
DTSTAMP:20260424T172259
CREATED:20220902T204040Z
LAST-MODIFIED:20220902T204040Z
UID:2605-1674837900-1674838800@campbell.k12.mn.us
SUMMARY:Basketball: Girls C Game vs Central Cass (Away) @ Central Cass High School
DESCRIPTION:
URL:https://campbell.k12.mn.us/event/basketball-girls-c-game-vs-central-cass-away-central-cass-high-school/
END:VEVENT
BEGIN:VEVENT
DTSTART;TZID=UTC:20230127T180000
DTEND;TZID=UTC:20230127T180000
DTSTAMP:20260424T172259
CREATED:20220902T204126Z
LAST-MODIFIED:20220902T204126Z
UID:2607-1674842400-1674842400@campbell.k12.mn.us
SUMMARY:Basketball: Girls JV Game vs Central Cass (Away)  Central Cass High School
DESCRIPTION:
URL:https://campbell.k12.mn.us/event/basketball-girls-jv-game-vs-central-cass-away-central-cass-high-school/
END:VEVENT
BEGIN:VEVENT
DTSTART;TZID=UTC:20230127T193000
DTEND;TZID=UTC:20230127T193000
DTSTAMP:20260424T172259
CREATED:20220902T204200Z
LAST-MODIFIED:20220902T204200Z
UID:2609-1674847800-1674847800@campbell.k12.mn.us
SUMMARY:Basketball: Girls Varsity Game vs Central Cass (Away) @ Central Cass High School
DESCRIPTION:
URL:https://campbell.k12.mn.us/event/basketball-girls-varsity-game-vs-central-cass-away-central-cass-high-school/
END:VEVENT
END:VCALENDAR