BEGIN:VCALENDAR
VERSION:2.0
PRODID:-//Campbell Tintah Public Schools - ECPv6.15.20//NONSGML v1.0//EN
CALSCALE:GREGORIAN
METHOD:PUBLISH
X-WR-CALNAME:Campbell Tintah Public Schools
X-ORIGINAL-URL:https://campbell.k12.mn.us
X-WR-CALDESC:Events for Campbell Tintah Public Schools
REFRESH-INTERVAL;VALUE=DURATION:PT1H
X-Robots-Tag:noindex
X-PUBLISHED-TTL:PT1H
BEGIN:VTIMEZONE
TZID:UTC
BEGIN:STANDARD
TZOFFSETFROM:+0000
TZOFFSETTO:+0000
TZNAME:UTC
DTSTART:20220101T000000
END:STANDARD
END:VTIMEZONE
BEGIN:VEVENT
DTSTART;TZID=UTC:20230131T080000
DTEND;TZID=UTC:20230131T170000
DTSTAMP:20260424T155658
CREATED:20220902T204335Z
LAST-MODIFIED:20220902T204335Z
UID:2615-1675152000-1675184400@campbell.k12.mn.us
SUMMARY:Basketball: Girls Varsity Game vs Sargent County (Home) @ Fairmount High School
DESCRIPTION:
URL:https://campbell.k12.mn.us/event/basketball-girls-varsity-game-vs-sargent-county-home-fairmount-high-school/
END:VEVENT
BEGIN:VEVENT
DTSTART;TZID=UTC:20230131T164500
DTEND;TZID=UTC:20230131T170000
DTSTAMP:20260424T155658
CREATED:20220902T204242Z
LAST-MODIFIED:20220902T204242Z
UID:2611-1675183500-1675184400@campbell.k12.mn.us
SUMMARY:Basketball: Girls C Game vs Sargent County (Home) @ Fairmount High School
DESCRIPTION:
URL:https://campbell.k12.mn.us/event/basketball-girls-c-game-vs-sargent-county-home-fairmount-high-school/
END:VEVENT
BEGIN:VEVENT
DTSTART;TZID=UTC:20230131T180000
DTEND;TZID=UTC:20230131T180000
DTSTAMP:20260424T155658
CREATED:20220902T204313Z
LAST-MODIFIED:20220902T204313Z
UID:2613-1675188000-1675188000@campbell.k12.mn.us
SUMMARY:Basketball: Girls JV Game vs Sargent County (Home) @ Fairmount High School
DESCRIPTION:
URL:https://campbell.k12.mn.us/event/basketball-girls-jv-game-vs-sargent-county-home-fairmount-high-school/
END:VEVENT
END:VCALENDAR