BEGIN:VCALENDAR
VERSION:2.0
PRODID:-//Campbell Tintah Public Schools - ECPv6.15.20//NONSGML v1.0//EN
CALSCALE:GREGORIAN
METHOD:PUBLISH
X-ORIGINAL-URL:https://campbell.k12.mn.us
X-WR-CALDESC:Events for Campbell Tintah Public Schools
REFRESH-INTERVAL;VALUE=DURATION:PT1H
X-Robots-Tag:noindex
X-PUBLISHED-TTL:PT1H
BEGIN:VTIMEZONE
TZID:UTC
BEGIN:STANDARD
TZOFFSETFROM:+0000
TZOFFSETTO:+0000
TZNAME:UTC
DTSTART:20220101T000000
END:STANDARD
END:VTIMEZONE
BEGIN:VEVENT
DTSTART;TZID=UTC:20230202T164500
DTEND;TZID=UTC:20230202T170000
DTSTAMP:20260424T155655
CREATED:20220902T204417Z
LAST-MODIFIED:20220902T204417Z
UID:2617-1675356300-1675357200@campbell.k12.mn.us
SUMMARY:Basketball: Boys C Game vs Central Cass (Away) @ Central Cass High School
DESCRIPTION:
URL:https://campbell.k12.mn.us/event/basketball-boys-c-game-vs-central-cass-away-central-cass-high-school/
END:VEVENT
BEGIN:VEVENT
DTSTART;TZID=UTC:20230202T180000
DTEND;TZID=UTC:20230202T180000
DTSTAMP:20260424T155655
CREATED:20220902T204448Z
LAST-MODIFIED:20220902T204448Z
UID:2619-1675360800-1675360800@campbell.k12.mn.us
SUMMARY:Basketball: Boys JV Game vs Central Cass (Away) @ Central Cass High School
DESCRIPTION:
URL:https://campbell.k12.mn.us/event/basketball-boys-jv-game-vs-central-cass-away-central-cass-high-school/
END:VEVENT
BEGIN:VEVENT
DTSTART;TZID=UTC:20230202T193000
DTEND;TZID=UTC:20230202T193000
DTSTAMP:20260424T155655
CREATED:20220902T204520Z
LAST-MODIFIED:20220902T204520Z
UID:2621-1675366200-1675366200@campbell.k12.mn.us
SUMMARY:Basketball: Boys Varsity Game vs Central Cass (Away) @ Central Cass High School
DESCRIPTION:
URL:https://campbell.k12.mn.us/event/basketball-boys-varsity-game-vs-central-cass-away-central-cass-high-school/
END:VEVENT
END:VCALENDAR