BEGIN:VCALENDAR
VERSION:2.0
PRODID:-//Campbell Tintah Public Schools - ECPv6.15.20//NONSGML v1.0//EN
CALSCALE:GREGORIAN
METHOD:PUBLISH
X-WR-CALNAME:Campbell Tintah Public Schools
X-ORIGINAL-URL:https://campbell.k12.mn.us
X-WR-CALDESC:Events for Campbell Tintah Public Schools
REFRESH-INTERVAL;VALUE=DURATION:PT1H
X-Robots-Tag:noindex
X-PUBLISHED-TTL:PT1H
BEGIN:VTIMEZONE
TZID:UTC
BEGIN:STANDARD
TZOFFSETFROM:+0000
TZOFFSETTO:+0000
TZNAME:UTC
DTSTART:20220101T000000
END:STANDARD
END:VTIMEZONE
BEGIN:VEVENT
DTSTART;VALUE=DATE:20230206
DTEND;VALUE=DATE:20230207
DTSTAMP:20260424T155605
CREATED:20221130T213522Z
LAST-MODIFIED:20221130T213522Z
UID:4273-1675641600-1675727999@campbell.k12.mn.us
SUMMARY:Snow Week
DESCRIPTION:
URL:https://campbell.k12.mn.us/event/snow-week/
END:VEVENT
BEGIN:VEVENT
DTSTART;TZID=UTC:20230206T180000
DTEND;TZID=UTC:20230206T180000
DTSTAMP:20260424T155605
CREATED:20220902T204551Z
LAST-MODIFIED:20220902T204551Z
UID:2623-1675706400-1675706400@campbell.k12.mn.us
SUMMARY:Basketball: Girls JV Game vs Enderlin (Away) @ Enderlin High School
DESCRIPTION:
URL:https://campbell.k12.mn.us/event/basketball-girls-jv-game-vs-enderlin-away-enderlin-high-school/
END:VEVENT
BEGIN:VEVENT
DTSTART;TZID=UTC:20230206T193000
DTEND;TZID=UTC:20230206T193000
DTSTAMP:20260424T155605
CREATED:20220902T204617Z
LAST-MODIFIED:20220902T204617Z
UID:2625-1675711800-1675711800@campbell.k12.mn.us
SUMMARY:Basketball: Girls Varsity Game vs Enderlin (Away) @ Enderlin High School
DESCRIPTION:
URL:https://campbell.k12.mn.us/event/basketball-girls-varsity-game-vs-enderlin-away-enderlin-high-school/
END:VEVENT
END:VCALENDAR