BEGIN:VCALENDAR
VERSION:2.0
PRODID:-//Campbell Tintah Public Schools - ECPv6.15.20//NONSGML v1.0//EN
CALSCALE:GREGORIAN
METHOD:PUBLISH
X-WR-CALNAME:Campbell Tintah Public Schools
X-ORIGINAL-URL:https://campbell.k12.mn.us
X-WR-CALDESC:Events for Campbell Tintah Public Schools
REFRESH-INTERVAL;VALUE=DURATION:PT1H
X-Robots-Tag:noindex
X-PUBLISHED-TTL:PT1H
BEGIN:VTIMEZONE
TZID:UTC
BEGIN:STANDARD
TZOFFSETFROM:+0000
TZOFFSETTO:+0000
TZNAME:UTC
DTSTART:20220101T000000
END:STANDARD
END:VTIMEZONE
BEGIN:VEVENT
DTSTART;TZID=UTC:20230209T080000
DTEND;TZID=UTC:20230209T170000
DTSTAMP:20260424T155656
CREATED:20220902T205117Z
LAST-MODIFIED:20220902T205117Z
UID:2633-1675929600-1675962000@campbell.k12.mn.us
SUMMARY:Basketball: Girls C Game vs Maple River (Home)
DESCRIPTION:
URL:https://campbell.k12.mn.us/event/basketball-girls-c-game-vs-maple-river-home/
END:VEVENT
BEGIN:VEVENT
DTSTART;TZID=UTC:20230209T193000
DTEND;TZID=UTC:20230209T193000
DTSTAMP:20260424T155656
CREATED:20220902T205325Z
LAST-MODIFIED:20220902T205325Z
UID:2635-1675971000-1675971000@campbell.k12.mn.us
SUMMARY:Basketball: Girls Varsity Game vs Maple River (Home) @ Fairmount
DESCRIPTION:
URL:https://campbell.k12.mn.us/event/basketball-girls-varsity-game-vs-maple-river-home-fairmount/
END:VEVENT
END:VCALENDAR