BEGIN:VCALENDAR
VERSION:2.0
PRODID:-//Campbell Tintah Public Schools - ECPv6.15.20//NONSGML v1.0//EN
CALSCALE:GREGORIAN
METHOD:PUBLISH
X-ORIGINAL-URL:https://campbell.k12.mn.us
X-WR-CALDESC:Events for Campbell Tintah Public Schools
REFRESH-INTERVAL;VALUE=DURATION:PT1H
X-Robots-Tag:noindex
X-PUBLISHED-TTL:PT1H
BEGIN:VTIMEZONE
TZID:UTC
BEGIN:STANDARD
TZOFFSETFROM:+0000
TZOFFSETTO:+0000
TZNAME:UTC
DTSTART:20220101T000000
END:STANDARD
END:VTIMEZONE
BEGIN:VEVENT
DTSTART;TZID=UTC:20230301T080000
DTEND;TZID=UTC:20230301T170000
DTSTAMP:20260424T143356
CREATED:20221206T224347Z
LAST-MODIFIED:20221206T233846Z
UID:4296-1677657600-1677690000@campbell.k12.mn.us
SUMMARY:LifeTouch Spring 3 quarter photos 8AM
DESCRIPTION:BE YOU  \n\n\nWhile Fall school pictures will always be important for capturing the traditional images we all have grown to know and love\, Spring Picture Day plays an important role in capturing students’ personalities. Unique from our Fall program\, our Spring photography program is designed to capture all that changes from the beginning of the school year\, through a personality-filled image!   \n\n\nOur photographers are excited to photograph your students this Spring showcasing their fun and unique personalities! Enjoy this video… “Inspiring kids to ‘BE YOU’”: CLICK HERE 
URL:https://campbell.k12.mn.us/event/lifetouch-spring-3-quarter-photos-8am/
END:VEVENT
END:VCALENDAR