BEGIN:VCALENDAR
VERSION:2.0
PRODID:-//Campbell Tintah Public Schools - ECPv6.15.20//NONSGML v1.0//EN
CALSCALE:GREGORIAN
METHOD:PUBLISH
X-WR-CALNAME:Campbell Tintah Public Schools
X-ORIGINAL-URL:https://campbell.k12.mn.us
X-WR-CALDESC:Events for Campbell Tintah Public Schools
REFRESH-INTERVAL;VALUE=DURATION:PT1H
X-Robots-Tag:noindex
X-PUBLISHED-TTL:PT1H
BEGIN:VTIMEZONE
TZID:UTC
BEGIN:STANDARD
TZOFFSETFROM:+0000
TZOFFSETTO:+0000
TZNAME:UTC
DTSTART:20220101T000000
END:STANDARD
END:VTIMEZONE
BEGIN:VEVENT
DTSTART;TZID=UTC:20230308T200000
DTEND;TZID=UTC:20230308T200000
DTSTAMP:20260424T143237
CREATED:20220917T020638Z
LAST-MODIFIED:20230308T194151Z
UID:2836-1678305600-1678305600@campbell.k12.mn.us
SUMMARY:School board meeting 6:30pm
DESCRIPTION:Topic: Campbell Tintah Board Meeting \nTime: Mar 8\, 2023 \n\nJoin Zoom Meeting \nhttps://us06web.zoom.us/j/89229258743 \n\nMeeting ID: 892 2925 8743 \nOne tap mobile \n+13052241968\,\,89229258743# US \n+13092053325\,\,89229258743# US \n\nDial by your location \n        +1 305 224 1968 US \n        +1 309 205 3325 US \n        +1 312 626 6799 US (Chicago) \n        +1 646 876 9923 US (New York) \n        +1 646 931 3860 US \n        +1 301 715 8592 US (Washington DC) \n        +1 253 215 8782 US (Tacoma) \n        +1 346 248 7799 US (Houston) \n        +1 360 209 5623 US \n        +1 386 347 5053 US \n        +1 408 638 0968 US (San Jose) \n        +1 507 473 4847 US \n        +1 564 217 2000 US \n        +1 669 444 9171 US \n        +1 669 900 6833 US (San Jose) \n        +1 689 278 1000 US \n        +1 719 359 4580 US \n        +1 253 205 0468 US \nMeeting ID: 892 2925 8743 \nFind your local number: https://us06web.zoom.us/u/kcXObMRLsq
URL:https://campbell.k12.mn.us/event/school-board-meeting-8pm-6/
END:VEVENT
END:VCALENDAR