BEGIN:VCALENDAR
VERSION:2.0
PRODID:-//Campbell Tintah Public Schools - ECPv6.15.20//NONSGML v1.0//EN
CALSCALE:GREGORIAN
METHOD:PUBLISH
X-ORIGINAL-URL:https://campbell.k12.mn.us
X-WR-CALDESC:Events for Campbell Tintah Public Schools
REFRESH-INTERVAL;VALUE=DURATION:PT1H
X-Robots-Tag:noindex
X-PUBLISHED-TTL:PT1H
BEGIN:VTIMEZONE
TZID:UTC
BEGIN:STANDARD
TZOFFSETFROM:+0000
TZOFFSETTO:+0000
TZNAME:UTC
DTSTART:20220101T000000
END:STANDARD
END:VTIMEZONE
BEGIN:VEVENT
DTSTART;TZID=UTC:20230316T151000
DTEND;TZID=UTC:20230316T170000
DTSTAMP:20260424T143426
CREATED:20230316T170146Z
LAST-MODIFIED:20230316T170146Z
UID:4626-1678979400-1678986000@campbell.k12.mn.us
SUMMARY:Optional Track Practice
DESCRIPTION:At Campbell\, 3:10
URL:https://campbell.k12.mn.us/event/optional-track-practice/
END:VEVENT
BEGIN:VEVENT
DTSTART;TZID=UTC:20230316T151000
DTEND;TZID=UTC:20230316T170000
DTSTAMP:20260424T143426
CREATED:20230316T170318Z
LAST-MODIFIED:20230316T170318Z
UID:4630-1678979400-1678986000@campbell.k12.mn.us
SUMMARY:Optional track practice 3:10
DESCRIPTION:At Campbell\, 3:10
URL:https://campbell.k12.mn.us/event/optional-track-practice-310/
END:VEVENT
BEGIN:VEVENT
DTSTART;TZID=UTC:20230316T160000
DTEND;TZID=UTC:20230316T173000
DTSTAMP:20260424T143426
CREATED:20230316T170234Z
LAST-MODIFIED:20230316T170234Z
UID:4628-1678982400-1678987800@campbell.k12.mn.us
SUMMARY:Boys 5th&6th Basketball practice at Campbell
DESCRIPTION:
URL:https://campbell.k12.mn.us/event/boys-5th6th-basketball-practice-at-campbell/
END:VEVENT
BEGIN:VEVENT
DTSTART;TZID=UTC:20230316T163000
DTEND;TZID=UTC:20230316T170000
DTSTAMP:20260424T143426
CREATED:20230316T170111Z
LAST-MODIFIED:20230316T170111Z
UID:4624-1678984200-1678986000@campbell.k12.mn.us
SUMMARY:Boys 5th&6th Basketball vs. St Marys at St. Marys
DESCRIPTION:
URL:https://campbell.k12.mn.us/event/boys-5th6th-basketball-vs-st-marys-at-st-marys/
END:VEVENT
BEGIN:VEVENT
DTSTART;TZID=UTC:20230316T163000
DTEND;TZID=UTC:20230316T170000
DTSTAMP:20260424T143426
CREATED:20230316T170722Z
LAST-MODIFIED:20230316T170831Z
UID:4642-1678984200-1678986000@campbell.k12.mn.us
SUMMARY:Boys 5th&6th Basketball vs. Hankinson at Fairmount
DESCRIPTION:
URL:https://campbell.k12.mn.us/event/boys-5th6th-basketball-vs-hankinson-at-fairmount/
END:VEVENT
BEGIN:VEVENT
DTSTART;TZID=UTC:20230316T163000
DTEND;TZID=UTC:20230316T170000
DTSTAMP:20260424T143426
CREATED:20230316T170904Z
LAST-MODIFIED:20230316T170904Z
UID:4644-1678984200-1678986000@campbell.k12.mn.us
SUMMARY:Boys 5th&6th Basketball vs. Rosholt at Rosholt
DESCRIPTION:
URL:https://campbell.k12.mn.us/event/boys-5th6th-basketball-vs-rosholt-at-rosholt/
END:VEVENT
END:VCALENDAR