BEGIN:VCALENDAR
VERSION:2.0
PRODID:-//Campbell Tintah Public Schools - ECPv6.15.20//NONSGML v1.0//EN
CALSCALE:GREGORIAN
METHOD:PUBLISH
X-WR-CALNAME:Campbell Tintah Public Schools
X-ORIGINAL-URL:https://campbell.k12.mn.us
X-WR-CALDESC:Events for Campbell Tintah Public Schools
REFRESH-INTERVAL;VALUE=DURATION:PT1H
X-Robots-Tag:noindex
X-PUBLISHED-TTL:PT1H
BEGIN:VTIMEZONE
TZID:UTC
BEGIN:STANDARD
TZOFFSETFROM:+0000
TZOFFSETTO:+0000
TZNAME:UTC
DTSTART:20220101T000000
END:STANDARD
END:VTIMEZONE
BEGIN:VEVENT
DTSTART;TZID=UTC:20230320T160000
DTEND;TZID=UTC:20230320T170000
DTSTAMP:20260424T143236
CREATED:20230316T171027Z
LAST-MODIFIED:20230316T171027Z
UID:4646-1679328000-1679331600@campbell.k12.mn.us
SUMMARY:Mandatory track practice 7th-12th in Rosholt
DESCRIPTION:
URL:https://campbell.k12.mn.us/event/mandatory-track-practice-7th-12th-in-rosholt/
END:VEVENT
BEGIN:VEVENT
DTSTART;TZID=UTC:20230320T163000
DTEND;TZID=UTC:20230320T170000
DTSTAMP:20260424T143236
CREATED:20230316T170416Z
LAST-MODIFIED:20230316T170416Z
UID:4632-1679329800-1679331600@campbell.k12.mn.us
SUMMARY:Boys 5th&6th Basketball vs. Sarg. center at Fairmount
DESCRIPTION:
URL:https://campbell.k12.mn.us/event/boys-5th6th-basketball-vs-sarg-center-at-fairmount/
END:VEVENT
BEGIN:VEVENT
DTSTART;TZID=UTC:20230320T180000
DTEND;TZID=UTC:20230320T180000
DTSTAMP:20260424T143236
CREATED:20230316T165924Z
LAST-MODIFIED:20230316T165924Z
UID:4622-1679335200-1679335200@campbell.k12.mn.us
SUMMARY:The parent/player track meeting
DESCRIPTION:In Rosholt
URL:https://campbell.k12.mn.us/event/the-parent-player-track-meeting/
END:VEVENT
END:VCALENDAR