BEGIN:VCALENDAR
VERSION:2.0
PRODID:-//Campbell Tintah Public Schools - ECPv6.15.20//NONSGML v1.0//EN
CALSCALE:GREGORIAN
METHOD:PUBLISH
X-WR-CALNAME:Campbell Tintah Public Schools
X-ORIGINAL-URL:https://campbell.k12.mn.us
X-WR-CALDESC:Events for Campbell Tintah Public Schools
REFRESH-INTERVAL;VALUE=DURATION:PT1H
X-Robots-Tag:noindex
X-PUBLISHED-TTL:PT1H
BEGIN:VTIMEZONE
TZID:UTC
BEGIN:STANDARD
TZOFFSETFROM:+0000
TZOFFSETTO:+0000
TZNAME:UTC
DTSTART:20220101T000000
END:STANDARD
END:VTIMEZONE
BEGIN:VEVENT
DTSTART;TZID=UTC:20230330T151000
DTEND;TZID=UTC:20230330T170000
DTSTAMP:20260424T132639
CREATED:20230316T171726Z
LAST-MODIFIED:20230316T171726Z
UID:4662-1680189000-1680195600@campbell.k12.mn.us
SUMMARY:Track Practice in own gyms
DESCRIPTION:Fairmount to Campbell-Tintah – Start as soon as possible
URL:https://campbell.k12.mn.us/event/track-practice-in-own-gyms-5/
END:VEVENT
BEGIN:VEVENT
DTSTART;TZID=UTC:20230330T163000
DTEND;TZID=UTC:20230330T170000
DTSTAMP:20260424T132639
CREATED:20230324T233124Z
LAST-MODIFIED:20230324T233124Z
UID:4679-1680193800-1680195600@campbell.k12.mn.us
SUMMARY:Post Prom Meeting
DESCRIPTION:Announcement: \nThe next post-prom planning meeting is on Thursday\, March 30 at 4:30 p.m. at Fairmount School. C-T junior and senior students and parents are welcome at the meeting! Please join the planning conversation if you are able\, and feel free to contact Ms. Schwagerl with any questions. Thank you!
URL:https://campbell.k12.mn.us/event/post-prom-meeting/
END:VEVENT
END:VCALENDAR