BEGIN:VCALENDAR
VERSION:2.0
PRODID:-//Campbell Tintah Public Schools - ECPv6.15.20//NONSGML v1.0//EN
CALSCALE:GREGORIAN
METHOD:PUBLISH
X-WR-CALNAME:Campbell Tintah Public Schools
X-ORIGINAL-URL:https://campbell.k12.mn.us
X-WR-CALDESC:Events for Campbell Tintah Public Schools
REFRESH-INTERVAL;VALUE=DURATION:PT1H
X-Robots-Tag:noindex
X-PUBLISHED-TTL:PT1H
BEGIN:VTIMEZONE
TZID:UTC
BEGIN:STANDARD
TZOFFSETFROM:+0000
TZOFFSETTO:+0000
TZNAME:UTC
DTSTART:20220101T000000
END:STANDARD
END:VTIMEZONE
BEGIN:VEVENT
DTSTART;VALUE=DATE:20230422
DTEND;VALUE=DATE:20230423
DTSTAMP:20260424T132640
CREATED:20221123T003157Z
LAST-MODIFIED:20230324T232948Z
UID:4251-1682121600-1682207999@campbell.k12.mn.us
SUMMARY:Prom
DESCRIPTION:Prom \nApril 22\, 2023 \nFairmount School \n5:00: Students arrive at Fairmount School for pictures \n6:30: Doors open to public \n7:00: Grand March \n8:00-Midnight: Dance \n12:30-3:00 a.m.: Post-Prom
URL:https://campbell.k12.mn.us/event/prom/
END:VEVENT
BEGIN:VEVENT
DTSTART;TZID=UTC:20230422T170000
DTEND;TZID=UTC:20230422T233000
DTSTAMP:20260424T132640
CREATED:20230327T201822Z
LAST-MODIFIED:20230327T201917Z
UID:4683-1682182800-1682206200@campbell.k12.mn.us
SUMMARY:Prom
DESCRIPTION:Saturday\, april 22nd in Fairmount. \nProm \nApril 22\, 2023 \nFairmount School \n5:00: Students arrive at Fairmount School for pictures \n6:30: Doors open to public \n7:00: Grand March \n8:00-Midnight: Dance \n12:30-3:00 a.m.: Post-Prom
URL:https://campbell.k12.mn.us/event/prom-2/
END:VEVENT
END:VCALENDAR