BEGIN:VCALENDAR
VERSION:2.0
PRODID:-//Campbell Tintah Public Schools - ECPv6.15.20//NONSGML v1.0//EN
CALSCALE:GREGORIAN
METHOD:PUBLISH
X-WR-CALNAME:Campbell Tintah Public Schools
X-ORIGINAL-URL:https://campbell.k12.mn.us
X-WR-CALDESC:Events for Campbell Tintah Public Schools
REFRESH-INTERVAL;VALUE=DURATION:PT1H
X-Robots-Tag:noindex
X-PUBLISHED-TTL:PT1H
BEGIN:VTIMEZONE
TZID:UTC
BEGIN:STANDARD
TZOFFSETFROM:+0000
TZOFFSETTO:+0000
TZNAME:UTC
DTSTART:20220101T000000
END:STANDARD
END:VTIMEZONE
BEGIN:VEVENT
DTSTART;TZID=UTC:20230428T080000
DTEND;TZID=UTC:20230428T170000
DTSTAMP:20260424T132642
CREATED:20230428T172912Z
LAST-MODIFIED:20230428T172912Z
UID:4798-1682668800-1682701200@campbell.k12.mn.us
SUMMARY:State Track and Field meet May 25th-27th at Howard Wood Fieldhouse
DESCRIPTION:State Track & Field Meet\n\nHoward Wood Field Fieldhouse\, 1200 N Western Ave\, Sioux Falls\, SD 57104\, USA
URL:https://campbell.k12.mn.us/event/state-track-and-field-meet-may-25th-27th-at-howard-wood-fieldhouse/
END:VEVENT
END:VCALENDAR