BEGIN:VCALENDAR
VERSION:2.0
PRODID:-//Campbell Tintah Public Schools - ECPv6.15.20//NONSGML v1.0//EN
CALSCALE:GREGORIAN
METHOD:PUBLISH
X-WR-CALNAME:Campbell Tintah Public Schools
X-ORIGINAL-URL:https://campbell.k12.mn.us
X-WR-CALDESC:Events for Campbell Tintah Public Schools
REFRESH-INTERVAL;VALUE=DURATION:PT1H
X-Robots-Tag:noindex
X-PUBLISHED-TTL:PT1H
BEGIN:VTIMEZONE
TZID:UTC
BEGIN:STANDARD
TZOFFSETFROM:+0000
TZOFFSETTO:+0000
TZNAME:UTC
DTSTART:20220101T000000
END:STANDARD
END:VTIMEZONE
BEGIN:VEVENT
DTSTART;TZID=UTC:20230509T080000
DTEND;TZID=UTC:20230509T170000
DTSTAMP:20260424T120124
CREATED:20230427T224050Z
LAST-MODIFIED:20230427T224050Z
UID:4749-1683619200-1683651600@campbell.k12.mn.us
SUMMARY:Zoo field trip
DESCRIPTION:PreK\, K\, 1st/2nd
URL:https://campbell.k12.mn.us/event/zoo-field-trip/
END:VEVENT
BEGIN:VEVENT
DTSTART;TZID=UTC:20230509T080000
DTEND;TZID=UTC:20230509T170000
DTSTAMP:20260424T120124
CREATED:20230428T172413Z
LAST-MODIFIED:20230428T172413Z
UID:4786-1683619200-1683651600@campbell.k12.mn.us
SUMMARY:Baseball vs Northern Cass at Northern Cass
DESCRIPTION:
URL:https://campbell.k12.mn.us/event/baseball-vs-northern-cass-at-northern-cass/
END:VEVENT
BEGIN:VEVENT
DTSTART;TZID=UTC:20230509T080000
DTEND;TZID=UTC:20230509T170000
DTSTAMP:20260424T120124
CREATED:20230428T172444Z
LAST-MODIFIED:20230428T172444Z
UID:4788-1683619200-1683651600@campbell.k12.mn.us
SUMMARY:Track meet ECC at Webster
DESCRIPTION:
URL:https://campbell.k12.mn.us/event/track-meet-ecc-at-webster/
END:VEVENT
END:VCALENDAR