BEGIN:VCALENDAR
VERSION:2.0
PRODID:-//Campbell Tintah Public Schools - ECPv6.15.20//NONSGML v1.0//EN
CALSCALE:GREGORIAN
METHOD:PUBLISH
X-WR-CALNAME:Campbell Tintah Public Schools
X-ORIGINAL-URL:https://campbell.k12.mn.us
X-WR-CALDESC:Events for Campbell Tintah Public Schools
REFRESH-INTERVAL;VALUE=DURATION:PT1H
X-Robots-Tag:noindex
X-PUBLISHED-TTL:PT1H
BEGIN:VTIMEZONE
TZID:UTC
BEGIN:STANDARD
TZOFFSETFROM:+0000
TZOFFSETTO:+0000
TZNAME:UTC
DTSTART:20220101T000000
END:STANDARD
END:VTIMEZONE
BEGIN:VEVENT
DTSTART;TZID=UTC:20230510T080000
DTEND;TZID=UTC:20230510T170000
DTSTAMP:20260424T115317
CREATED:20220917T020946Z
LAST-MODIFIED:20220917T020946Z
UID:2840-1683705600-1683738000@campbell.k12.mn.us
SUMMARY:School Board meeting 8PM
DESCRIPTION:
URL:https://campbell.k12.mn.us/event/school-board-meeting-8pm-8/
END:VEVENT
BEGIN:VEVENT
DTSTART;TZID=UTC:20230510T080000
DTEND;TZID=UTC:20230510T170000
DTSTAMP:20260424T115317
CREATED:20230427T232410Z
LAST-MODIFIED:20230427T232410Z
UID:4751-1683705600-1683738000@campbell.k12.mn.us
SUMMARY:Zoo field trip
DESCRIPTION:PreK
URL:https://campbell.k12.mn.us/event/zoo-field-trip-2/
END:VEVENT
END:VCALENDAR