BEGIN:VCALENDAR
VERSION:2.0
PRODID:-//Campbell Tintah Public Schools - ECPv6.15.20//NONSGML v1.0//EN
CALSCALE:GREGORIAN
METHOD:PUBLISH
X-WR-CALNAME:Campbell Tintah Public Schools
X-ORIGINAL-URL:https://campbell.k12.mn.us
X-WR-CALDESC:Events for Campbell Tintah Public Schools
REFRESH-INTERVAL;VALUE=DURATION:PT1H
X-Robots-Tag:noindex
X-PUBLISHED-TTL:PT1H
BEGIN:VTIMEZONE
TZID:UTC
BEGIN:STANDARD
TZOFFSETFROM:+0000
TZOFFSETTO:+0000
TZNAME:UTC
DTSTART:20220101T000000
END:STANDARD
END:VTIMEZONE
BEGIN:VEVENT
DTSTART;TZID=UTC:20230511T080000
DTEND;TZID=UTC:20230511T170000
DTSTAMP:20260424T120420
CREATED:20230428T172538Z
LAST-MODIFIED:20230428T172538Z
UID:4790-1683792000-1683824400@campbell.k12.mn.us
SUMMARY:Baseball vs Enderlin at Fairmount
DESCRIPTION:
URL:https://campbell.k12.mn.us/event/baseball-vs-enderlin-at-fairmount/
END:VEVENT
BEGIN:VEVENT
DTSTART;TZID=UTC:20230511T163000
DTEND;TZID=UTC:20230511T170000
DTSTAMP:20260424T120420
CREATED:20230428T180159Z
LAST-MODIFIED:20230428T180159Z
UID:4808-1683822600-1683824400@campbell.k12.mn.us
SUMMARY:Softball V\,JV vs Enderlin at Enderlin
DESCRIPTION:Thursday\, May 11\n4:30 PM\nEnderlin\nHFCTLR\nEnderlin\nV / JV
URL:https://campbell.k12.mn.us/event/softball-vjv-vs-enderlin-at-enderlin/
END:VEVENT
END:VCALENDAR