BEGIN:VCALENDAR
VERSION:2.0
PRODID:-//Campbell Tintah Public Schools - ECPv6.15.20//NONSGML v1.0//EN
CALSCALE:GREGORIAN
METHOD:PUBLISH
X-WR-CALNAME:Campbell Tintah Public Schools
X-ORIGINAL-URL:https://campbell.k12.mn.us
X-WR-CALDESC:Events for Campbell Tintah Public Schools
REFRESH-INTERVAL;VALUE=DURATION:PT1H
X-Robots-Tag:noindex
X-PUBLISHED-TTL:PT1H
BEGIN:VTIMEZONE
TZID:UTC
BEGIN:STANDARD
TZOFFSETFROM:+0000
TZOFFSETTO:+0000
TZNAME:UTC
DTSTART:20220101T000000
END:STANDARD
END:VTIMEZONE
BEGIN:VEVENT
DTSTART;TZID=UTC:20230512T080000
DTEND;TZID=UTC:20230512T170000
DTSTAMP:20260424T120029
CREATED:20230427T232522Z
LAST-MODIFIED:20230427T232522Z
UID:4754-1683878400-1683910800@campbell.k12.mn.us
SUMMARY:Spring Fling / Color Run @ 1:30
DESCRIPTION:
URL:https://campbell.k12.mn.us/event/spring-fling-color-run-130/
END:VEVENT
BEGIN:VEVENT
DTSTART;TZID=UTC:20230512T080000
DTEND;TZID=UTC:20230512T170000
DTSTAMP:20260424T120029
CREATED:20230428T172622Z
LAST-MODIFIED:20230428T172622Z
UID:4792-1683878400-1683910800@campbell.k12.mn.us
SUMMARY:Track Meet Waubay Legion Relays at Webster
DESCRIPTION:
URL:https://campbell.k12.mn.us/event/track-meet-waubay-legion-relays-at-webster/
END:VEVENT
BEGIN:VEVENT
DTSTART;TZID=UTC:20230512T173000
DTEND;TZID=UTC:20230512T173000
DTSTAMP:20260424T120029
CREATED:20230428T180259Z
LAST-MODIFIED:20230428T180259Z
UID:4810-1683912600-1683912600@campbell.k12.mn.us
SUMMARY:Softball V vs Glenburn at North Softball Complex
DESCRIPTION:Friday\, May 12\n5:30 PM\nHFCTLR\nGlenburn\nNorth Softball Complex -Fargo\nV
URL:https://campbell.k12.mn.us/event/softball-v-vs-glenburn-at-north-softball-complex/
END:VEVENT
END:VCALENDAR