BEGIN:VCALENDAR
VERSION:2.0
PRODID:-//Campbell Tintah Public Schools - ECPv6.15.20//NONSGML v1.0//EN
CALSCALE:GREGORIAN
METHOD:PUBLISH
X-ORIGINAL-URL:https://campbell.k12.mn.us
X-WR-CALDESC:Events for Campbell Tintah Public Schools
REFRESH-INTERVAL;VALUE=DURATION:PT1H
X-Robots-Tag:noindex
X-PUBLISHED-TTL:PT1H
BEGIN:VTIMEZONE
TZID:UTC
BEGIN:STANDARD
TZOFFSETFROM:+0000
TZOFFSETTO:+0000
TZNAME:UTC
DTSTART:20220101T000000
END:STANDARD
END:VTIMEZONE
BEGIN:VEVENT
DTSTART;TZID=UTC:20230513T100000
DTEND;TZID=UTC:20230513T170000
DTSTAMP:20260424T115511
CREATED:20230428T181337Z
LAST-MODIFIED:20230428T181337Z
UID:4812-1683972000-1683997200@campbell.k12.mn.us
SUMMARY:Softball V vs Tioga & Grand Forks Central at North Softball Complex
DESCRIPTION:Saturday\, May 13\n10:00 AM\nHFCTLR\nTioga\nNorth Softball Complex -Fargo\nV\n\n\n\n\n4:00 PM\nHFCTLR\nGrand Forks Central\nNorth Softball Complex -Fargo\nV
URL:https://campbell.k12.mn.us/event/softball-v-vs-tioga-grand-forks-central-at-north-softball-complex/
END:VEVENT
END:VCALENDAR