BEGIN:VCALENDAR
VERSION:2.0
PRODID:-//Campbell Tintah Public Schools - ECPv6.15.20//NONSGML v1.0//EN
CALSCALE:GREGORIAN
METHOD:PUBLISH
X-WR-CALNAME:Campbell Tintah Public Schools
X-ORIGINAL-URL:https://campbell.k12.mn.us
X-WR-CALDESC:Events for Campbell Tintah Public Schools
REFRESH-INTERVAL;VALUE=DURATION:PT1H
X-Robots-Tag:noindex
X-PUBLISHED-TTL:PT1H
BEGIN:VTIMEZONE
TZID:UTC
BEGIN:STANDARD
TZOFFSETFROM:+0000
TZOFFSETTO:+0000
TZNAME:UTC
DTSTART:20220101T000000
END:STANDARD
END:VTIMEZONE
BEGIN:VEVENT
DTSTART;TZID=UTC:20230522T183000
DTEND;TZID=UTC:20230522T200000
DTSTAMP:20260424T120039
CREATED:20230504T180226Z
LAST-MODIFIED:20230504T223805Z
UID:4818-1684780200-1684785600@campbell.k12.mn.us
SUMMARY:NHS Banquet 6:30 at Campbell community center
DESCRIPTION:
URL:https://campbell.k12.mn.us/event/nhs-banquet-630-at-campbell-community-center/
END:VEVENT
END:VCALENDAR