BEGIN:VCALENDAR
VERSION:2.0
PRODID:-//Campbell Tintah Public Schools - ECPv6.15.20//NONSGML v1.0//EN
CALSCALE:GREGORIAN
METHOD:PUBLISH
X-WR-CALNAME:Campbell Tintah Public Schools
X-ORIGINAL-URL:https://campbell.k12.mn.us
X-WR-CALDESC:Events for Campbell Tintah Public Schools
REFRESH-INTERVAL;VALUE=DURATION:PT1H
X-Robots-Tag:noindex
X-PUBLISHED-TTL:PT1H
BEGIN:VTIMEZONE
TZID:UTC
BEGIN:STANDARD
TZOFFSETFROM:+0000
TZOFFSETTO:+0000
TZNAME:UTC
DTSTART:20220101T000000
END:STANDARD
END:VTIMEZONE
BEGIN:VEVENT
DTSTART;TZID=UTC:20230922T080000
DTEND;TZID=UTC:20230922T170000
DTSTAMP:20260424T060221
CREATED:20230922T170805Z
LAST-MODIFIED:20230922T170805Z
UID:5019-1695369600-1695402000@campbell.k12.mn.us
SUMMARY:Football V game vs North Central Thunder (home)
DESCRIPTION:At Rosholt High School
URL:https://campbell.k12.mn.us/event/football-v-game-vs-north-central-thunder-home/
END:VEVENT
BEGIN:VEVENT
DTSTART;TZID=UTC:20230922T163000
DTEND;TZID=UTC:20230922T170000
DTSTAMP:20260424T060221
CREATED:20230922T165105Z
LAST-MODIFIED:20230922T165105Z
UID:5005-1695400200-1695402000@campbell.k12.mn.us
SUMMARY:Volleyball c game vs Waverly-South shore (away)
DESCRIPTION:4:45
URL:https://campbell.k12.mn.us/event/volleyball-c-game-vs-waverly-south-shore-away/
END:VEVENT
BEGIN:VEVENT
DTSTART;TZID=UTC:20230922T191500
DTEND;TZID=UTC:20230922T191500
DTSTAMP:20260424T060221
CREATED:20230922T165417Z
LAST-MODIFIED:20230922T165417Z
UID:5011-1695410100-1695410100@campbell.k12.mn.us
SUMMARY:Volleyball V game vs Waverly-South shore(away)
DESCRIPTION:at Waverly high school
URL:https://campbell.k12.mn.us/event/volleyball-v-game-vs-waverly-south-shoreaway/
END:VEVENT
END:VCALENDAR