BEGIN:VCALENDAR
VERSION:2.0
PRODID:-//Campbell Tintah Public Schools - ECPv6.15.20//NONSGML v1.0//EN
CALSCALE:GREGORIAN
METHOD:PUBLISH
X-WR-CALNAME:Campbell Tintah Public Schools
X-ORIGINAL-URL:https://campbell.k12.mn.us
X-WR-CALDESC:Events for Campbell Tintah Public Schools
REFRESH-INTERVAL;VALUE=DURATION:PT1H
X-Robots-Tag:noindex
X-PUBLISHED-TTL:PT1H
BEGIN:VTIMEZONE
TZID:UTC
BEGIN:STANDARD
TZOFFSETFROM:+0000
TZOFFSETTO:+0000
TZNAME:UTC
DTSTART:20220101T000000
END:STANDARD
END:VTIMEZONE
BEGIN:VEVENT
DTSTART;TZID=UTC:20231004T083000
DTEND;TZID=UTC:20231004T170000
DTSTAMP:20260424T044259
CREATED:20230928T164819Z
LAST-MODIFIED:20230928T164819Z
UID:5032-1696408200-1696438800@campbell.k12.mn.us
SUMMARY:Health Careers Day at NDSCS
DESCRIPTION:On Wednesday\, October 4th Mr. Osman and Ms. Michael will be taking the freshman and sophomores to Health Careers Day at NDSCS.  Lunch is provided so they will not be eating at school and do not need a sack lunch.\n\nWe will be leaving at 8:30 and arriving back around 2
URL:https://campbell.k12.mn.us/event/health-careers-day-at-ndscs/
END:VEVENT
END:VCALENDAR