BEGIN:VCALENDAR
VERSION:2.0
PRODID:-//Campbell Tintah Public Schools - ECPv6.15.20//NONSGML v1.0//EN
CALSCALE:GREGORIAN
METHOD:PUBLISH
X-WR-CALNAME:Campbell Tintah Public Schools
X-ORIGINAL-URL:https://campbell.k12.mn.us
X-WR-CALDESC:Events for Campbell Tintah Public Schools
REFRESH-INTERVAL;VALUE=DURATION:PT1H
X-Robots-Tag:noindex
X-PUBLISHED-TTL:PT1H
BEGIN:VTIMEZONE
TZID:UTC
BEGIN:STANDARD
TZOFFSETFROM:+0000
TZOFFSETTO:+0000
TZNAME:UTC
DTSTART:20220101T000000
END:STANDARD
END:VTIMEZONE
BEGIN:VEVENT
DTSTART;TZID=UTC:20231018T080000
DTEND;TZID=UTC:20231018T170000
DTSTAMP:20260424T044321
CREATED:20230928T164926Z
LAST-MODIFIED:20230928T182003Z
UID:5034-1697616000-1697648400@campbell.k12.mn.us
SUMMARY:Manufacturing and Ag day
DESCRIPTION:Wednesday\, October 18th\, Ms. Michael will be taking the 11th and 12th grades to Manufacturing and Ag day at 8:30 am.  Once we are done at 1:30 we will be touring RDO in Breckenridge- and back on the road around 2:30 to be back to school by the end of the day.
URL:https://campbell.k12.mn.us/event/manufacturing-and-ag-day/
END:VEVENT
BEGIN:VEVENT
DTSTART;TZID=UTC:20231018T080000
DTEND;TZID=UTC:20231018T170000
DTSTAMP:20260424T044321
CREATED:20231010T183705Z
LAST-MODIFIED:20231010T183705Z
UID:5048-1697616000-1697648400@campbell.k12.mn.us
SUMMARY:October 18-  11th and 12th grades to Manufacturing and Ag day at NDSCS
DESCRIPTION:
URL:https://campbell.k12.mn.us/event/october-18-11th-and-12th-grades-to-manufacturing-and-ag-day-at-ndscs/
END:VEVENT
END:VCALENDAR