BEGIN:VCALENDAR
VERSION:2.0
PRODID:-//Campbell Tintah Public Schools - ECPv6.15.20//NONSGML v1.0//EN
CALSCALE:GREGORIAN
METHOD:PUBLISH
X-ORIGINAL-URL:https://campbell.k12.mn.us
X-WR-CALDESC:Events for Campbell Tintah Public Schools
REFRESH-INTERVAL;VALUE=DURATION:PT1H
X-Robots-Tag:noindex
X-PUBLISHED-TTL:PT1H
BEGIN:VTIMEZONE
TZID:UTC
BEGIN:STANDARD
TZOFFSETFROM:+0000
TZOFFSETTO:+0000
TZNAME:UTC
DTSTART:20220101T000000
END:STANDARD
END:VTIMEZONE
BEGIN:VEVENT
DTSTART;TZID=UTC:20231113T080000
DTEND;TZID=UTC:20231113T170000
DTSTAMP:20260424T031922
CREATED:20231025T184049Z
LAST-MODIFIED:20231025T184049Z
UID:5061-1699862400-1699894800@campbell.k12.mn.us
SUMMARY:November 13: Junior Class Fundraiser Ends
DESCRIPTION:
URL:https://campbell.k12.mn.us/event/november-13-junior-class-fundraiser-ends/
END:VEVENT
END:VCALENDAR