BEGIN:VCALENDAR
VERSION:2.0
PRODID:-//Campbell Tintah Public Schools - ECPv6.15.20//NONSGML v1.0//EN
CALSCALE:GREGORIAN
METHOD:PUBLISH
X-ORIGINAL-URL:https://campbell.k12.mn.us
X-WR-CALDESC:Events for Campbell Tintah Public Schools
REFRESH-INTERVAL;VALUE=DURATION:PT1H
X-Robots-Tag:noindex
X-PUBLISHED-TTL:PT1H
BEGIN:VTIMEZONE
TZID:UTC
BEGIN:STANDARD
TZOFFSETFROM:+0000
TZOFFSETTO:+0000
TZNAME:UTC
DTSTART:20220101T000000
END:STANDARD
END:VTIMEZONE
BEGIN:VEVENT
DTSTART;TZID=UTC:20231211T080000
DTEND;TZID=UTC:20231211T170000
DTSTAMP:20260422T051549
CREATED:20231212T031106Z
LAST-MODIFIED:20231212T031106Z
UID:5110-1702281600-1702314000@campbell.k12.mn.us
SUMMARY:Elem holiday concert
DESCRIPTION:December 14th at 1:30. if you plan to bring your child home afterwards\, please contact the office prior\, Thank you
URL:https://campbell.k12.mn.us/event/elem-holiday-concert/
END:VEVENT
END:VCALENDAR