BEGIN:VCALENDAR
VERSION:2.0
PRODID:-//Campbell Tintah Public Schools - ECPv6.15.20//NONSGML v1.0//EN
CALSCALE:GREGORIAN
METHOD:PUBLISH
X-ORIGINAL-URL:https://campbell.k12.mn.us
X-WR-CALDESC:Events for Campbell Tintah Public Schools
REFRESH-INTERVAL;VALUE=DURATION:PT1H
X-Robots-Tag:noindex
X-PUBLISHED-TTL:PT1H
BEGIN:VTIMEZONE
TZID:UTC
BEGIN:STANDARD
TZOFFSETFROM:+0000
TZOFFSETTO:+0000
TZNAME:UTC
DTSTART:20220101T000000
END:STANDARD
END:VTIMEZONE
BEGIN:VEVENT
DTSTART;TZID=UTC:20231222T080000
DTEND;TZID=UTC:20240101T170000
DTSTAMP:20260422T050449
CREATED:20231128T010726Z
LAST-MODIFIED:20231128T010913Z
UID:5079-1703232000-1704128400@campbell.k12.mn.us
SUMMARY:No School Winter break 22nd- Jan 1st
DESCRIPTION:
URL:https://campbell.k12.mn.us/event/no-school-winter-break-22nd-jan-1st/
END:VEVENT
END:VCALENDAR