BEGIN:VCALENDAR
VERSION:2.0
PRODID:-//Campbell Tintah Public Schools - ECPv6.15.20//NONSGML v1.0//EN
CALSCALE:GREGORIAN
METHOD:PUBLISH
X-WR-CALNAME:Campbell Tintah Public Schools
X-ORIGINAL-URL:https://campbell.k12.mn.us
X-WR-CALDESC:Events for Campbell Tintah Public Schools
REFRESH-INTERVAL;VALUE=DURATION:PT1H
X-Robots-Tag:noindex
X-PUBLISHED-TTL:PT1H
BEGIN:VTIMEZONE
TZID:UTC
BEGIN:STANDARD
TZOFFSETFROM:+0000
TZOFFSETTO:+0000
TZNAME:UTC
DTSTART:20210101T000000
END:STANDARD
END:VTIMEZONE
BEGIN:VEVENT
DTSTART;TZID=UTC:20220901T080000
DTEND;TZID=UTC:20220901T170000
DTSTAMP:20260425T063431
CREATED:20220902T014020Z
LAST-MODIFIED:20220902T014020Z
UID:2500-1662019200-1662051600@campbell.k12.mn.us
SUMMARY:Volleyball: JV Match vs Maple River (Away) @ Maple Valley High School
DESCRIPTION:
URL:https://campbell.k12.mn.us/event/volleyball-jv-match-vs-maple-river-away-maple-valley-high-school/
END:VEVENT
BEGIN:VEVENT
DTSTART;TZID=UTC:20220901T140000
DTEND;TZID=UTC:20220901T150000
DTSTAMP:20260425T063431
CREATED:20220901T215000Z
LAST-MODIFIED:20220901T215000Z
UID:2329-1662040800-1662044400@campbell.k12.mn.us
SUMMARY:Cross Country in Breckenridge Varsity\, Junior Varsity & Junior high C-T 2:00
DESCRIPTION:
URL:https://campbell.k12.mn.us/event/cross-country-in-breckenridge-varsity-junior-varsity-junior-high-c-t-200/
END:VEVENT
BEGIN:VEVENT
DTSTART;TZID=UTC:20220901T173000
DTEND;TZID=UTC:20220901T173000
DTSTAMP:20260425T063431
CREATED:20220901T215214Z
LAST-MODIFIED:20220901T215214Z
UID:2331-1662053400-1662053400@campbell.k12.mn.us
SUMMARY:JH Football vs. hankinson @ Hankinson 5:30
DESCRIPTION:
URL:https://campbell.k12.mn.us/event/jh-football-vs-hankinson-hankinson-530/
END:VEVENT
BEGIN:VEVENT
DTSTART;TZID=UTC:20220901T181500
DTEND;TZID=UTC:20220901T181500
DTSTAMP:20260425T063431
CREATED:20220901T215451Z
LAST-MODIFIED:20220901T215523Z
UID:2333-1662056100-1662056100@campbell.k12.mn.us
SUMMARY:Volleyball:  JV Game vs Great Plains Lutheran (Away)  @ Great Plains Lutheran 6:15
DESCRIPTION:
URL:https://campbell.k12.mn.us/event/volleyball-jv-game-vs-great-plains-lutheran-away-great-plains-lutheran-615/
END:VEVENT
BEGIN:VEVENT
DTSTART;TZID=UTC:20220901T181500
DTEND;TZID=UTC:20220901T181500
DTSTAMP:20260425T063431
CREATED:20220901T220950Z
LAST-MODIFIED:20220901T221004Z
UID:2336-1662056100-1662056100@campbell.k12.mn.us
SUMMARY:Volleyball: JV Game vs Great Plains Lutheran (Away)  6:15 @ Great Plains Lutheran School
DESCRIPTION:
URL:https://campbell.k12.mn.us/event/volleyball-jv-game-vs-great-plains-lutheran-away-615-great-plains-lutheran-school/
END:VEVENT
BEGIN:VEVENT
DTSTART;TZID=UTC:20220901T191500
DTEND;TZID=UTC:20220901T191500
DTSTAMP:20260425T063431
CREATED:20220901T221114Z
LAST-MODIFIED:20220901T221114Z
UID:2338-1662059700-1662059700@campbell.k12.mn.us
SUMMARY:Volleyball: Varsity Game vs Great Plains Lutheran (Away) @ Great Plains Lutheran School 7:15
DESCRIPTION:
URL:https://campbell.k12.mn.us/event/volleyball-varsity-game-vs-great-plains-lutheran-away-great-plains-lutheran-school-715/
END:VEVENT
BEGIN:VEVENT
DTSTART;TZID=UTC:20220902T190000
DTEND;TZID=UTC:20220902T190000
DTSTAMP:20260425T063431
CREATED:20220901T221250Z
LAST-MODIFIED:20220901T221250Z
UID:2340-1662145200-1662145200@campbell.k12.mn.us
SUMMARY:7:00 PM  Football: Football vs Maple River (Fairmount) (Parent's Night)
DESCRIPTION:
URL:https://campbell.k12.mn.us/event/700-pm-football-football-vs-maple-river-fairmount-parents-night/
END:VEVENT
BEGIN:VEVENT
DTSTART;TZID=UTC:20220902T190000
DTEND;TZID=UTC:20220902T190000
DTSTAMP:20260425T063431
CREATED:20220901T221607Z
LAST-MODIFIED:20220901T221607Z
UID:2342-1662145200-1662145200@campbell.k12.mn.us
SUMMARY:Football: Varsity Game vs Maple River (Home) @ Fairmount 7:00
DESCRIPTION:
URL:https://campbell.k12.mn.us/event/football-varsity-game-vs-maple-river-home-fairmount-700/
END:VEVENT
BEGIN:VEVENT
DTSTART;TZID=UTC:20220906T160000
DTEND;TZID=UTC:20220906T170000
DTSTAMP:20260425T063431
CREATED:20220901T221819Z
LAST-MODIFIED:20220901T221819Z
UID:2344-1662480000-1662483600@campbell.k12.mn.us
SUMMARY:Cross Country Meet at Britton Britton Country Club\, 10920 424th Ave\, Britton\, SD 57430\, USA
DESCRIPTION:
URL:https://campbell.k12.mn.us/event/cross-country-meet-at-britton-britton-country-club-10920-424th-ave-britton-sd-57430-usa/
END:VEVENT
BEGIN:VEVENT
DTSTART;TZID=UTC:20220906T163000
DTEND;TZID=UTC:20220906T170000
DTSTAMP:20260425T063431
CREATED:20220901T221923Z
LAST-MODIFIED:20220901T221923Z
UID:2346-1662481800-1662483600@campbell.k12.mn.us
SUMMARY:JH Volleyball vs Wyndmere/Lidgerwood  @ Fairmount High School\, 400 Main Ave\, Fairmount\, ND 58030\, USA
DESCRIPTION:
URL:https://campbell.k12.mn.us/event/jh-volleyball-vs-wyndmere-lidgerwood-fairmount-high-school-400-main-ave-fairmount-nd-58030-usa/
END:VEVENT
BEGIN:VEVENT
DTSTART;TZID=UTC:20220906T164500
DTEND;TZID=UTC:20220906T170000
DTSTAMP:20260425T063431
CREATED:20220901T222126Z
LAST-MODIFIED:20220901T222126Z
UID:2348-1662482700-1662483600@campbell.k12.mn.us
SUMMARY:Volleyball: C Match vs Kindred (Away) @ Kindred Kindred High School 4:45
DESCRIPTION:
URL:https://campbell.k12.mn.us/event/volleyball-c-match-vs-kindred-away-kindred-kindred-high-school-445/
END:VEVENT
BEGIN:VEVENT
DTSTART;TZID=UTC:20220906T180000
DTEND;TZID=UTC:20220906T180000
DTSTAMP:20260425T063431
CREATED:20220901T222439Z
LAST-MODIFIED:20220901T222439Z
UID:2350-1662487200-1662487200@campbell.k12.mn.us
SUMMARY:Volleyball: JV Match vs Kindred (Away) @ Kindred Kindred High School 6:00
DESCRIPTION:
URL:https://campbell.k12.mn.us/event/volleyball-jv-match-vs-kindred-away-kindred-kindred-high-school-600/
END:VEVENT
BEGIN:VEVENT
DTSTART;TZID=UTC:20220906T191500
DTEND;TZID=UTC:20220906T191500
DTSTAMP:20260425T063431
CREATED:20220901T222537Z
LAST-MODIFIED:20220901T222537Z
UID:2352-1662491700-1662491700@campbell.k12.mn.us
SUMMARY:Volleyball: Varsity Match vs Kindred (Away) @ Kindred Kindred High School 7:15
DESCRIPTION:
URL:https://campbell.k12.mn.us/event/volleyball-varsity-match-vs-kindred-away-kindred-kindred-high-school-715/
END:VEVENT
BEGIN:VEVENT
DTSTART;VALUE=DATE:20220908
DTEND;VALUE=DATE:20220909
DTSTAMP:20260425T063431
CREATED:20220901T222901Z
LAST-MODIFIED:20220901T222901Z
UID:2354-1662595200-1662681599@campbell.k12.mn.us
SUMMARY:JH Volleyball Tournament Browns Valley\, MN 56219\, USA
DESCRIPTION:
URL:https://campbell.k12.mn.us/event/jh-volleyball-tournament-browns-valley-mn-56219-usa/
END:VEVENT
BEGIN:VEVENT
DTSTART;TZID=UTC:20220908T164500
DTEND;TZID=UTC:20220908T170000
DTSTAMP:20260425T063431
CREATED:20220901T223150Z
LAST-MODIFIED:20220901T223150Z
UID:2356-1662655500-1662656400@campbell.k12.mn.us
SUMMARY:Volleyball: C Match vs Northern Cass (Home) @ Northern Cass
DESCRIPTION:
URL:https://campbell.k12.mn.us/event/volleyball-c-match-vs-northern-cass-home-northern-cass/
END:VEVENT
BEGIN:VEVENT
DTSTART;TZID=UTC:20220908T180000
DTEND;TZID=UTC:20220908T180000
DTSTAMP:20260425T063431
CREATED:20220901T223431Z
LAST-MODIFIED:20220901T223431Z
UID:2358-1662660000-1662660000@campbell.k12.mn.us
SUMMARY:Volleyball: JV Match vs Northern Cass (Home) @ Northern Cass
DESCRIPTION:
URL:https://campbell.k12.mn.us/event/volleyball-jv-match-vs-northern-cass-home-northern-cass/
END:VEVENT
BEGIN:VEVENT
DTSTART;TZID=UTC:20220908T191500
DTEND;TZID=UTC:20220908T191500
DTSTAMP:20260425T063431
CREATED:20220901T223542Z
LAST-MODIFIED:20220901T223542Z
UID:2360-1662664500-1662664500@campbell.k12.mn.us
SUMMARY:Volleyball: Varsity Match vs Northern Cass (Home) @ Northern Cass
DESCRIPTION:
URL:https://campbell.k12.mn.us/event/volleyball-varsity-match-vs-northern-cass-home-northern-cass/
END:VEVENT
BEGIN:VEVENT
DTSTART;TZID=UTC:20220909T190000
DTEND;TZID=UTC:20220909T190000
DTSTAMP:20260425T063431
CREATED:20220901T223832Z
LAST-MODIFIED:20220901T223832Z
UID:2362-1662750000-1662750000@campbell.k12.mn.us
SUMMARY:Football: Football vs LaMoure/LM (Rosholt) Rosholt High School\, 202 Finley Ave\, Rosholt\, SD 57260\, USA
DESCRIPTION:
URL:https://campbell.k12.mn.us/event/football-football-vs-lamoure-lm-rosholt-rosholt-high-school-202-finley-ave-rosholt-sd-57260-usa/
END:VEVENT
BEGIN:VEVENT
DTSTART;TZID=UTC:20220909T190000
DTEND;TZID=UTC:20220909T190000
DTSTAMP:20260425T063431
CREATED:20220901T223929Z
LAST-MODIFIED:20220901T223929Z
UID:2364-1662750000-1662750000@campbell.k12.mn.us
SUMMARY:Football: Varsity Game vs LaMoure (Home) @ LaMoure Rosholt High School
DESCRIPTION:
URL:https://campbell.k12.mn.us/event/football-varsity-game-vs-lamoure-home-lamoure-rosholt-high-school/
END:VEVENT
BEGIN:VEVENT
DTSTART;VALUE=DATE:20220910
DTEND;VALUE=DATE:20220911
DTSTAMP:20260425T063431
CREATED:20220901T224030Z
LAST-MODIFIED:20220901T224030Z
UID:2366-1662768000-1662854399@campbell.k12.mn.us
SUMMARY:Volleyball: Varsity Tournament vs Central Cass\, TBD @ Central Cass High School
DESCRIPTION:
URL:https://campbell.k12.mn.us/event/volleyball-varsity-tournament-vs-central-cass-tbd-central-cass-high-school/
END:VEVENT
BEGIN:VEVENT
DTSTART;TZID=UTC:20220910T093000
DTEND;TZID=UTC:20220910T170000
DTSTAMP:20260425T063431
CREATED:20220901T224115Z
LAST-MODIFIED:20220901T224115Z
UID:2368-1662802200-1662829200@campbell.k12.mn.us
SUMMARY:Cross Country Hardees Meet at Milbank Country Club Lane\, Country Club Ln\, Melrose Township\, SD 57252\, USA
DESCRIPTION:
URL:https://campbell.k12.mn.us/event/cross-country-hardees-meet-at-milbank-country-club-lane-country-club-ln-melrose-township-sd-57252-usa/
END:VEVENT
BEGIN:VEVENT
DTSTART;VALUE=DATE:20220912
DTEND;VALUE=DATE:20220913
DTSTAMP:20260425T063431
CREATED:20220901T224154Z
LAST-MODIFIED:20220901T224154Z
UID:2370-1662940800-1663027199@campbell.k12.mn.us
SUMMARY:JH Football Jamboree Browns Valley\, MN 56219\, USA
DESCRIPTION:
URL:https://campbell.k12.mn.us/event/jh-football-jamboree-browns-valley-mn-56219-usa/
END:VEVENT
BEGIN:VEVENT
DTSTART;TZID=UTC:20220912T160000
DTEND;TZID=UTC:20220912T170000
DTSTAMP:20260425T063431
CREATED:20220901T224227Z
LAST-MODIFIED:20220901T224227Z
UID:2372-1662998400-1663002000@campbell.k12.mn.us
SUMMARY:Cross Country Meet at Webster Webster Golf Club\, 1030 W 3rd St\, Webster\, SD 57274\, USA
DESCRIPTION:
URL:https://campbell.k12.mn.us/event/cross-country-meet-at-webster-webster-golf-club-1030-w-3rd-st-webster-sd-57274-usa/
END:VEVENT
BEGIN:VEVENT
DTSTART;TZID=UTC:20220913T164500
DTEND;TZID=UTC:20220913T170000
DTSTAMP:20260425T063431
CREATED:20220901T224513Z
LAST-MODIFIED:20220901T224513Z
UID:2378-1663087500-1663088400@campbell.k12.mn.us
SUMMARY:Volleyball: C Match vs Lisbon (Away) @ Lisbon Lisbon High School
DESCRIPTION:
URL:https://campbell.k12.mn.us/event/volleyball-c-match-vs-lisbon-away-lisbon-lisbon-high-school/
END:VEVENT
BEGIN:VEVENT
DTSTART;TZID=UTC:20220913T180000
DTEND;TZID=UTC:20220913T180000
DTSTAMP:20260425T063431
CREATED:20220901T224604Z
LAST-MODIFIED:20220901T224604Z
UID:2380-1663092000-1663092000@campbell.k12.mn.us
SUMMARY:Volleyball: JV Match vs Lisbon (Away)@ Lisbon High School
DESCRIPTION:
URL:https://campbell.k12.mn.us/event/volleyball-jv-match-vs-lisbon-away-lisbon-high-school/
END:VEVENT
BEGIN:VEVENT
DTSTART;TZID=UTC:20220913T191500
DTEND;TZID=UTC:20220913T191500
DTSTAMP:20260425T063431
CREATED:20220901T224657Z
LAST-MODIFIED:20220901T224657Z
UID:2382-1663096500-1663096500@campbell.k12.mn.us
SUMMARY:Volleyball: Varsity Match vs Lisbon (Away) @ Lisbon High School
DESCRIPTION:
URL:https://campbell.k12.mn.us/event/volleyball-varsity-match-vs-lisbon-away-lisbon-high-school/
END:VEVENT
BEGIN:VEVENT
DTSTART;TZID=UTC:20220915T163000
DTEND;TZID=UTC:20220915T170000
DTSTAMP:20260425T063431
CREATED:20220901T224806Z
LAST-MODIFIED:20220915T175436Z
UID:2384-1663259400-1663261200@campbell.k12.mn.us
SUMMARY:JH Football vs Hankinson  RESCHEDULED FOR THURSDAY THE 22ND
DESCRIPTION:JH Football vs Hankinson @ Hankinson Rescheduled for Thursday\, September 22 at 5 p.m. in Rosholt 
URL:https://campbell.k12.mn.us/event/jh-football-vs-hankinson-rosholt-high-school-202-finley-ave-rosholt-sd-57260-usa/
END:VEVENT
BEGIN:VEVENT
DTSTART;TZID=UTC:20220915T164500
DTEND;TZID=UTC:20220915T170000
DTSTAMP:20260425T063431
CREATED:20220901T224903Z
LAST-MODIFIED:20220901T224903Z
UID:2386-1663260300-1663261200@campbell.k12.mn.us
SUMMARY:Volleyball: C Match vs Hankinson (Home)
DESCRIPTION:
URL:https://campbell.k12.mn.us/event/volleyball-c-match-vs-hankinson-home/
END:VEVENT
BEGIN:VEVENT
DTSTART;TZID=UTC:20220915T180000
DTEND;TZID=UTC:20220915T180000
DTSTAMP:20260425T063431
CREATED:20220901T225021Z
LAST-MODIFIED:20220901T225021Z
UID:2388-1663264800-1663264800@campbell.k12.mn.us
SUMMARY:Volleyball: JV Match vs Hankinson (Home)
DESCRIPTION:
URL:https://campbell.k12.mn.us/event/volleyball-jv-match-vs-hankinson-home/
END:VEVENT
BEGIN:VEVENT
DTSTART;TZID=UTC:20220915T191500
DTEND;TZID=UTC:20220915T191500
DTSTAMP:20260425T063431
CREATED:20220901T225129Z
LAST-MODIFIED:20220901T225129Z
UID:2390-1663269300-1663269300@campbell.k12.mn.us
SUMMARY:Volleyball: Varsity Match vs Hankinson (Home)@ Hankinson Rosholt High School
DESCRIPTION:
URL:https://campbell.k12.mn.us/event/volleyball-varsity-match-vs-hankinson-home-hankinson-rosholt-high-school/
END:VEVENT
END:VCALENDAR