BEGIN:VCALENDAR
VERSION:2.0
PRODID:-//Campbell Tintah Public Schools - ECPv6.15.20//NONSGML v1.0//EN
CALSCALE:GREGORIAN
METHOD:PUBLISH
X-WR-CALNAME:Campbell Tintah Public Schools
X-ORIGINAL-URL:https://campbell.k12.mn.us
X-WR-CALDESC:Events for Campbell Tintah Public Schools
REFRESH-INTERVAL;VALUE=DURATION:PT1H
X-Robots-Tag:noindex
X-PUBLISHED-TTL:PT1H
BEGIN:VTIMEZONE
TZID:UTC
BEGIN:STANDARD
TZOFFSETFROM:+0000
TZOFFSETTO:+0000
TZNAME:UTC
DTSTART:20210101T000000
END:STANDARD
END:VTIMEZONE
BEGIN:VEVENT
DTSTART;TZID=UTC:20221011T164500
DTEND;TZID=UTC:20221011T170000
DTSTAMP:20260422T034900
CREATED:20220902T011350Z
LAST-MODIFIED:20220902T011350Z
UID:2468-1665506700-1665507600@campbell.k12.mn.us
SUMMARY:Volleyball: C Match vs Central Cass (Home)
DESCRIPTION:
URL:https://campbell.k12.mn.us/event/volleyball-c-match-vs-central-cass-home/
END:VEVENT
BEGIN:VEVENT
DTSTART;TZID=UTC:20221011T160000
DTEND;TZID=UTC:20221011T173000
DTSTAMP:20260422T034900
CREATED:20220928T165251Z
LAST-MODIFIED:20220928T165251Z
UID:2877-1665504000-1665509400@campbell.k12.mn.us
SUMMARY:Elem girls basketball @ Campbell
DESCRIPTION:
URL:https://campbell.k12.mn.us/event/elem-girls-basketball-campbell-3/
END:VEVENT
BEGIN:VEVENT
DTSTART;TZID=UTC:20221010T160000
DTEND;TZID=UTC:20221010T173000
DTSTAMP:20260422T034900
CREATED:20220928T165229Z
LAST-MODIFIED:20220928T165229Z
UID:2875-1665417600-1665423000@campbell.k12.mn.us
SUMMARY:Elem girls basketball @ Campbell
DESCRIPTION:
URL:https://campbell.k12.mn.us/event/elem-girls-basketball-campbell-2/
END:VEVENT
BEGIN:VEVENT
DTSTART;TZID=UTC:20221010T090000
DTEND;TZID=UTC:20221010T170000
DTSTAMP:20260422T034900
CREATED:20221004T174128Z
LAST-MODIFIED:20221004T174128Z
UID:3107-1665392400-1665421200@campbell.k12.mn.us
SUMMARY:Fire Prevention
DESCRIPTION:
URL:https://campbell.k12.mn.us/event/fire-prevention/
END:VEVENT
BEGIN:VEVENT
DTSTART;TZID=UTC:20221007T190000
DTEND;TZID=UTC:20221007T190000
DTSTAMP:20260422T034900
CREATED:20220902T011305Z
LAST-MODIFIED:20220902T011305Z
UID:2466-1665169200-1665169200@campbell.k12.mn.us
SUMMARY:Football: Varsity Game vs Griggs-Midkota Titans (Away)  Cooperstown\, ND
DESCRIPTION:
URL:https://campbell.k12.mn.us/event/football-varsity-game-vs-griggs-midkota-titans-away-cooperstown-nd/
END:VEVENT
BEGIN:VEVENT
DTSTART;TZID=UTC:20221007T190000
DTEND;TZID=UTC:20221007T190000
DTSTAMP:20260422T034900
CREATED:20220902T011209Z
LAST-MODIFIED:20220902T011209Z
UID:2464-1665169200-1665169200@campbell.k12.mn.us
SUMMARY:Football: Football vs Griggs/Midkota (Cooperstown) Cooperstown\, ND 58425\, USA
DESCRIPTION:
URL:https://campbell.k12.mn.us/event/football-football-vs-griggs-midkota-cooperstown-cooperstown-nd-58425-usa/
END:VEVENT
BEGIN:VEVENT
DTSTART;TZID=UTC:20221007T153000
DTEND;TZID=UTC:20221007T170000
DTSTAMP:20260422T034900
CREATED:20220928T165112Z
LAST-MODIFIED:20220928T165112Z
UID:2873-1665156600-1665162000@campbell.k12.mn.us
SUMMARY:Elem girls basketball @ Fairmount
DESCRIPTION:
URL:https://campbell.k12.mn.us/event/elem-girls-basketball-fairmount-3/
END:VEVENT
BEGIN:VEVENT
DTSTART;TZID=UTC:20221006T153000
DTEND;TZID=UTC:20221006T170000
DTSTAMP:20260422T034900
CREATED:20220928T165005Z
LAST-MODIFIED:20220928T165005Z
UID:2870-1665070200-1665075600@campbell.k12.mn.us
SUMMARY:Elem girls basketball @ Fairmount
DESCRIPTION:
URL:https://campbell.k12.mn.us/event/elem-girls-basketball-fairmount-4/
END:VEVENT
BEGIN:VEVENT
DTSTART;TZID=UTC:20221005T130000
DTEND;TZID=UTC:20221005T140000
DTSTAMP:20260422T034900
CREATED:20220909T002552Z
LAST-MODIFIED:20220909T002552Z
UID:2756-1664974800-1664978400@campbell.k12.mn.us
SUMMARY:October 5th 1-2 NDSCS Campus tour Sophomores
DESCRIPTION:
URL:https://campbell.k12.mn.us/event/october-5th-1-2-ndscs-campus-tour-sophomores/
END:VEVENT
BEGIN:VEVENT
DTSTART;TZID=UTC:20221005T090000
DTEND;TZID=UTC:20221005T130000
DTSTAMP:20260422T034900
CREATED:20220909T002443Z
LAST-MODIFIED:20220909T002443Z
UID:2754-1664960400-1664974800@campbell.k12.mn.us
SUMMARY:October 5th  9-1 Manufacturing and Ag day at NDSCS Sophomores
DESCRIPTION:
URL:https://campbell.k12.mn.us/event/october-5th-9-1-manufacturing-and-ag-day-at-ndscs-sophomores/
END:VEVENT
BEGIN:VEVENT
DTSTART;TZID=UTC:20221004T191500
DTEND;TZID=UTC:20221004T191500
DTSTAMP:20260422T034900
CREATED:20220902T011057Z
LAST-MODIFIED:20221003T182046Z
UID:2462-1664910900-1664910900@campbell.k12.mn.us
SUMMARY:7:15 PM  Volleyball: Varsity Match vs Richland @ Campbell
DESCRIPTION:
URL:https://campbell.k12.mn.us/event/715-pm-volleyball-varsity-match-vs-richland-home/
END:VEVENT
BEGIN:VEVENT
DTSTART;TZID=UTC:20221004T180000
DTEND;TZID=UTC:20221004T180000
DTSTAMP:20260422T034900
CREATED:20220902T010959Z
LAST-MODIFIED:20221003T181052Z
UID:2460-1664906400-1664906400@campbell.k12.mn.us
SUMMARY:Volleyball: JV Match vs Richland @ Campbell
DESCRIPTION:
URL:https://campbell.k12.mn.us/event/volleyball-jv-match-vs-richland-home/
END:VEVENT
BEGIN:VEVENT
DTSTART;TZID=UTC:20221004T153000
DTEND;TZID=UTC:20221004T170000
DTSTAMP:20260422T034900
CREATED:20220928T164930Z
LAST-MODIFIED:20220928T164930Z
UID:2866-1664897400-1664902800@campbell.k12.mn.us
SUMMARY:Elem girls basketball @ Fairmount
DESCRIPTION:
URL:https://campbell.k12.mn.us/event/elem-girls-basketball-fairmount-2/
END:VEVENT
BEGIN:VEVENT
DTSTART;TZID=UTC:20221003T160000
DTEND;TZID=UTC:20221003T170000
DTSTAMP:20260422T034900
CREATED:20220902T010555Z
LAST-MODIFIED:20220902T010555Z
UID:2456-1664812800-1664816400@campbell.k12.mn.us
SUMMARY:Cross Country ECC Meet at Castlewood Castlewood Golf Course\, 411 Cemetery Rd E\, Castlewood\, SD 57223\, USA
DESCRIPTION:
URL:https://campbell.k12.mn.us/event/cross-country-ecc-meet-at-castlewood-castlewood-golf-course-411-cemetery-rd-e-castlewood-sd-57223-usa/
END:VEVENT
BEGIN:VEVENT
DTSTART;TZID=UTC:20221003T153000
DTEND;TZID=UTC:20221003T170000
DTSTAMP:20260422T034900
CREATED:20220928T164912Z
LAST-MODIFIED:20220928T164912Z
UID:2864-1664811000-1664816400@campbell.k12.mn.us
SUMMARY:Elem girls basketball @ Fairmount
DESCRIPTION:
URL:https://campbell.k12.mn.us/event/elem-girls-basketball-fairmount/
END:VEVENT
BEGIN:VEVENT
DTSTART;TZID=UTC:20221001T100000
DTEND;TZID=UTC:20221001T170000
DTSTAMP:20260422T034900
CREATED:20220902T010516Z
LAST-MODIFIED:20220902T010516Z
UID:2454-1664618400-1664643600@campbell.k12.mn.us
SUMMARY:Cross Country Meet at Wheaton Wheaton Country Club\, 6401 MN-27\, Wheaton\, MN 56296\, USA
DESCRIPTION:
URL:https://campbell.k12.mn.us/event/cross-country-meet-at-wheaton-wheaton-country-club-6401-mn-27-wheaton-mn-56296-usa/
END:VEVENT
BEGIN:VEVENT
DTSTART;VALUE=DATE:20221001
DTEND;VALUE=DATE:20221002
DTSTAMP:20260422T034900
CREATED:20220930T201729Z
LAST-MODIFIED:20220930T201729Z
UID:2909-1664582400-1664668799@campbell.k12.mn.us
SUMMARY:FAFSA Opens
DESCRIPTION:
URL:https://campbell.k12.mn.us/event/fafsa-opens/
END:VEVENT
BEGIN:VEVENT
DTSTART;VALUE=DATE:20221001
DTEND;VALUE=DATE:20221002
DTSTAMP:20260422T034900
CREATED:20220902T010445Z
LAST-MODIFIED:20220902T010445Z
UID:2452-1664582400-1664668799@campbell.k12.mn.us
SUMMARY:Volleyball: Varsity Tournament vs Lisbon\, TBD (Away)  Lisbon
DESCRIPTION:
URL:https://campbell.k12.mn.us/event/volleyball-varsity-tournament-vs-lisbon-tbd-away-lisbon/
END:VEVENT
BEGIN:VEVENT
DTSTART;TZID=UTC:20220930T210000
DTEND;TZID=UTC:20220930T235900
DTSTAMP:20260422T034900
CREATED:20220909T235528Z
LAST-MODIFIED:20220913T011922Z
UID:2772-1664571600-1664582340@campbell.k12.mn.us
SUMMARY:Homecoming Dance in Rosholt 9:00 p.m to Midnight
DESCRIPTION:
URL:https://campbell.k12.mn.us/event/homecoming-dance-in-rosholt-time-tbd/
END:VEVENT
BEGIN:VEVENT
DTSTART;TZID=UTC:20220930T210000
DTEND;TZID=UTC:20220930T233000
DTSTAMP:20260422T034900
CREATED:20220915T174401Z
LAST-MODIFIED:20220915T174401Z
UID:2808-1664571600-1664580600@campbell.k12.mn.us
SUMMARY:Homecoming dance at Rosholt School
DESCRIPTION:Students in grades 7-12: The Homecoming dance is at Rosholt School on Friday\, September 30. It will start at 9:00\, and doors will lock at 9:30; students will not be able to enter or reenter the dance after that time. The dance ends at midnight. Sign up and pay in the C-T office by Wednesday\, September 28 at noon; you must be signed up and paid by that deadline to attend the dance. Cost is $7 and includes food and beverage. Students on the ineligible list will not be allowed to attend the dance. There will be a bus providing transportation from Campbell; please indicate if you plan to ride the bus to and from the dance.
URL:https://campbell.k12.mn.us/event/homecoming-dance-at-rosholt-school/
END:VEVENT
BEGIN:VEVENT
DTSTART;TZID=UTC:20220930T190000
DTEND;TZID=UTC:20220930T190000
DTSTAMP:20260422T034900
CREATED:20220901T234156Z
LAST-MODIFIED:20220901T234156Z
UID:2448-1664564400-1664564400@campbell.k12.mn.us
SUMMARY:Football: Varsity Game vs Lidgerwood/Wyndmere (Home) @ Rosholt High School
DESCRIPTION:
URL:https://campbell.k12.mn.us/event/football-varsity-game-vs-lidgerwood-wyndmere-home-rosholt-high-school/
END:VEVENT
BEGIN:VEVENT
DTSTART;TZID=UTC:20220930T190000
DTEND;TZID=UTC:20220930T190000
DTSTAMP:20260422T034900
CREATED:20220901T234120Z
LAST-MODIFIED:20220901T234120Z
UID:2446-1664564400-1664564400@campbell.k12.mn.us
SUMMARY:Football: Football vs Wyndmere/Lidgerwood (Rosholt) (Homecoming) @ Rosholt High School\, 202 Finley Ave\, Rosholt\, SD 57260\, USA
DESCRIPTION:
URL:https://campbell.k12.mn.us/event/football-football-vs-wyndmere-lidgerwood-rosholt-homecoming-rosholt-high-school-202-finley-ave-rosholt-sd-57260-usa/
END:VEVENT
BEGIN:VEVENT
DTSTART;TZID=UTC:20220930T160000
DTEND;TZID=UTC:20220930T173000
DTSTAMP:20260422T034900
CREATED:20220928T164801Z
LAST-MODIFIED:20220928T164801Z
UID:2861-1664553600-1664559000@campbell.k12.mn.us
SUMMARY:Elem girls basketball @ Campbell
DESCRIPTION:
URL:https://campbell.k12.mn.us/event/elem-girls-basketball-campbell/
END:VEVENT
BEGIN:VEVENT
DTSTART;VALUE=DATE:20220930
DTEND;VALUE=DATE:20221001
DTSTAMP:20260422T034900
CREATED:20220901T233135Z
LAST-MODIFIED:20220915T175323Z
UID:2422-1664496000-1664582399@campbell.k12.mn.us
SUMMARY:Homecoming week Tiger Spirit Day
DESCRIPTION:Friday: Dress up – Tiger Spirit Day \nActivity – Pep Fest\, 7th and 8th Hour
URL:https://campbell.k12.mn.us/event/homecoming-week-5/
END:VEVENT
BEGIN:VEVENT
DTSTART;TZID=UTC:20220929T191500
DTEND;TZID=UTC:20220929T191500
DTSTAMP:20260422T034900
CREATED:20220901T234046Z
LAST-MODIFIED:20220901T234046Z
UID:2444-1664478900-1664478900@campbell.k12.mn.us
SUMMARY:Volleyball: Varsity Game vs Florence/Henry (Away) @ Florence High School
DESCRIPTION:
URL:https://campbell.k12.mn.us/event/volleyball-varsity-game-vs-florence-henry-away-florence-high-school/
END:VEVENT
BEGIN:VEVENT
DTSTART;TZID=UTC:20220929T181500
DTEND;TZID=UTC:20220929T181500
DTSTAMP:20260422T034900
CREATED:20220901T233957Z
LAST-MODIFIED:20220901T233957Z
UID:2442-1664475300-1664475300@campbell.k12.mn.us
SUMMARY:Volleyball: JV Game vs Florence/Henry (Away)  @ Florence High School
DESCRIPTION:
URL:https://campbell.k12.mn.us/event/volleyball-jv-game-vs-florence-henry-away-florence-high-school/
END:VEVENT
BEGIN:VEVENT
DTSTART;TZID=UTC:20220929T163000
DTEND;TZID=UTC:20220929T170000
DTSTAMP:20260422T034900
CREATED:20220901T233918Z
LAST-MODIFIED:20220901T233918Z
UID:2440-1664469000-1664470800@campbell.k12.mn.us
SUMMARY:JH Volleyball vs Sargent County Milnor\, ND 58060\, USA
DESCRIPTION:
URL:https://campbell.k12.mn.us/event/jh-volleyball-vs-sargent-county-milnor-nd-58060-usa/
END:VEVENT
BEGIN:VEVENT
DTSTART;TZID=UTC:20220929T160000
DTEND;TZID=UTC:20220929T173000
DTSTAMP:20260422T034900
CREATED:20220928T164731Z
LAST-MODIFIED:20220928T164826Z
UID:2859-1664467200-1664472600@campbell.k12.mn.us
SUMMARY:Elem girls basketball @ Campbell
DESCRIPTION:
URL:https://campbell.k12.mn.us/event/elem-girls-basketball/
END:VEVENT
BEGIN:VEVENT
DTSTART;TZID=UTC:20220929T160000
DTEND;TZID=UTC:20220929T170000
DTSTAMP:20260422T034900
CREATED:20220901T233855Z
LAST-MODIFIED:20220901T233855Z
UID:2438-1664467200-1664470800@campbell.k12.mn.us
SUMMARY:Cross Country Meet at Sisseton Valley View Country Club\, Sisseton\, SD 57262\, USA
DESCRIPTION:
URL:https://campbell.k12.mn.us/event/cross-country-meet-at-sisseton-valley-view-country-club-sisseton-sd-57262-usa/
END:VEVENT
BEGIN:VEVENT
DTSTART;VALUE=DATE:20220929
DTEND;VALUE=DATE:20220930
DTSTAMP:20260422T034900
CREATED:20220901T233116Z
LAST-MODIFIED:20220915T175228Z
UID:2420-1664409600-1664495999@campbell.k12.mn.us
SUMMARY:Homecoming week Generations Day
DESCRIPTION:Thursday: Dress up – Generations Day \nActivity – Class Volleyball\, 4th and Part of 5th Hour
URL:https://campbell.k12.mn.us/event/homecoming-week-4/
END:VEVENT
END:VCALENDAR