BEGIN:VCALENDAR
VERSION:2.0
PRODID:-//Campbell Tintah Public Schools - ECPv6.15.20//NONSGML v1.0//EN
CALSCALE:GREGORIAN
METHOD:PUBLISH
X-ORIGINAL-URL:https://campbell.k12.mn.us
X-WR-CALDESC:Events for Campbell Tintah Public Schools
REFRESH-INTERVAL;VALUE=DURATION:PT1H
X-Robots-Tag:noindex
X-PUBLISHED-TTL:PT1H
BEGIN:VTIMEZONE
TZID:UTC
BEGIN:STANDARD
TZOFFSETFROM:+0000
TZOFFSETTO:+0000
TZNAME:UTC
DTSTART:20220101T000000
END:STANDARD
END:VTIMEZONE
BEGIN:VEVENT
DTSTART;TZID=UTC:20230905T170000
DTEND;TZID=UTC:20230905T170000
DTSTAMP:20260424T044516
CREATED:20230905T193457Z
LAST-MODIFIED:20230905T193457Z
UID:4960-1693933200-1693933200@campbell.k12.mn.us
SUMMARY:Special board meeting
DESCRIPTION:Board meeting at CT school
URL:https://campbell.k12.mn.us/event/special-board-meeting/
END:VEVENT
BEGIN:VEVENT
DTSTART;VALUE=DATE:20230911
DTEND;VALUE=DATE:20230916
DTSTAMP:20260424T044516
CREATED:20230515T220636Z
LAST-MODIFIED:20230822T234815Z
UID:4843-1694390400-1694822399@campbell.k12.mn.us
SUMMARY:Homecoming Week: September 11th-15th
DESCRIPTION:
URL:https://campbell.k12.mn.us/event/homecoming-week-september-25-29/
END:VEVENT
BEGIN:VEVENT
DTSTART;TZID=UTC:20230911T130000
DTEND;TZID=UTC:20230911T170000
DTSTAMP:20260424T044516
CREATED:20230905T231603Z
LAST-MODIFIED:20230905T232429Z
UID:4962-1694437200-1694451600@campbell.k12.mn.us
SUMMARY:Monday\, September 11 at 1:00 p.m.: Homecoming Coronation\, Campbell-Tintah School
DESCRIPTION:Homecoming coronation
URL:https://campbell.k12.mn.us/event/monday-september-11-at-100-p-m-homecoming-coronation-campbell-tintah-school/
END:VEVENT
BEGIN:VEVENT
DTSTART;TZID=UTC:20230913T080000
DTEND;TZID=UTC:20230913T170000
DTSTAMP:20260424T044516
CREATED:20230912T190405Z
LAST-MODIFIED:20230912T190405Z
UID:4977-1694592000-1694624400@campbell.k12.mn.us
SUMMARY:School Board meeting 8:00
DESCRIPTION:No zoom link this month
URL:https://campbell.k12.mn.us/event/school-board-meeting-800-2/
END:VEVENT
BEGIN:VEVENT
DTSTART;TZID=UTC:20230915T210000
DTEND;TZID=UTC:20230915T233000
DTSTAMP:20260424T044516
CREATED:20230912T185314Z
LAST-MODIFIED:20230912T185314Z
UID:4975-1694811600-1694820600@campbell.k12.mn.us
SUMMARY:Friday\, September 15: Homecoming Dance\, Fairmount School\, 9:00 p.m. - Midnight
DESCRIPTION:
URL:https://campbell.k12.mn.us/event/friday-september-15-homecoming-dance-fairmount-school-900-p-m-midnight/
END:VEVENT
BEGIN:VEVENT
DTSTART;TZID=UTC:20230920T080000
DTEND;TZID=UTC:20230920T170000
DTSTAMP:20260424T044516
CREATED:20221206T220917Z
LAST-MODIFIED:20221206T220917Z
UID:4292-1695196800-1695229200@campbell.k12.mn.us
SUMMARY:Fall photos
DESCRIPTION:
URL:https://campbell.k12.mn.us/event/fall-photos/
END:VEVENT
BEGIN:VEVENT
DTSTART;TZID=UTC:20230922T080000
DTEND;TZID=UTC:20230922T170000
DTSTAMP:20260424T044516
CREATED:20230922T170805Z
LAST-MODIFIED:20230922T170805Z
UID:5019-1695369600-1695402000@campbell.k12.mn.us
SUMMARY:Football V game vs North Central Thunder (home)
DESCRIPTION:At Rosholt High School
URL:https://campbell.k12.mn.us/event/football-v-game-vs-north-central-thunder-home/
END:VEVENT
BEGIN:VEVENT
DTSTART;TZID=UTC:20230922T163000
DTEND;TZID=UTC:20230922T170000
DTSTAMP:20260424T044516
CREATED:20230922T165105Z
LAST-MODIFIED:20230922T165105Z
UID:5005-1695400200-1695402000@campbell.k12.mn.us
SUMMARY:Volleyball c game vs Waverly-South shore (away)
DESCRIPTION:4:45
URL:https://campbell.k12.mn.us/event/volleyball-c-game-vs-waverly-south-shore-away/
END:VEVENT
BEGIN:VEVENT
DTSTART;TZID=UTC:20230922T191500
DTEND;TZID=UTC:20230922T191500
DTSTAMP:20260424T044516
CREATED:20230922T165417Z
LAST-MODIFIED:20230922T165417Z
UID:5011-1695410100-1695410100@campbell.k12.mn.us
SUMMARY:Volleyball V game vs Waverly-South shore(away)
DESCRIPTION:at Waverly high school
URL:https://campbell.k12.mn.us/event/volleyball-v-game-vs-waverly-south-shoreaway/
END:VEVENT
BEGIN:VEVENT
DTSTART;VALUE=DATE:20230923
DTEND;VALUE=DATE:20230924
DTSTAMP:20260424T044516
CREATED:20230922T164928Z
LAST-MODIFIED:20230922T164928Z
UID:5001-1695427200-1695513599@campbell.k12.mn.us
SUMMARY:JH Volleyball North Sargent Jamboree
DESCRIPTION:
URL:https://campbell.k12.mn.us/event/jh-volleyball-north-sargent-jamboree/
END:VEVENT
BEGIN:VEVENT
DTSTART;TZID=UTC:20230925T160000
DTEND;TZID=UTC:20230925T170000
DTSTAMP:20260424T044516
CREATED:20230922T165011Z
LAST-MODIFIED:20230922T165011Z
UID:5003-1695657600-1695661200@campbell.k12.mn.us
SUMMARY:Cross Country Groton Invite
DESCRIPTION:
URL:https://campbell.k12.mn.us/event/cross-country-groton-invite/
END:VEVENT
BEGIN:VEVENT
DTSTART;TZID=UTC:20230925T180000
DTEND;TZID=UTC:20230925T180000
DTSTAMP:20260424T044516
CREATED:20230922T165215Z
LAST-MODIFIED:20230922T165215Z
UID:5007-1695664800-1695664800@campbell.k12.mn.us
SUMMARY:Football boys V vs Lidgerwood/Wyndmere (away)
DESCRIPTION:at Wyndmere high school
URL:https://campbell.k12.mn.us/event/football-boys-v-vs-lidgerwood-wyndmere-away/
END:VEVENT
BEGIN:VEVENT
DTSTART;TZID=UTC:20230925T180000
DTEND;TZID=UTC:20230925T180000
DTSTAMP:20260424T044516
CREATED:20230922T165315Z
LAST-MODIFIED:20230922T165315Z
UID:5009-1695664800-1695664800@campbell.k12.mn.us
SUMMARY:Volleyball JV game vs Waverly-South shore (away)
DESCRIPTION:
URL:https://campbell.k12.mn.us/event/volleyball-jv-game-vs-waverly-south-shore-away/
END:VEVENT
BEGIN:VEVENT
DTSTART;TZID=UTC:20230926T164500
DTEND;TZID=UTC:20230926T170000
DTSTAMP:20260424T044516
CREATED:20230922T170550Z
LAST-MODIFIED:20230922T170550Z
UID:5013-1695746700-1695747600@campbell.k12.mn.us
SUMMARY:Volleyball C\,JV\, V game vs Oak Grove (home)
DESCRIPTION:At Campbell
URL:https://campbell.k12.mn.us/event/volleyball-cjv-v-game-vs-oak-grove-home/
END:VEVENT
BEGIN:VEVENT
DTSTART;TZID=UTC:20230927T080000
DTEND;TZID=UTC:20230927T170000
DTSTAMP:20260424T044516
CREATED:20230922T164659Z
LAST-MODIFIED:20230922T164659Z
UID:4995-1695801600-1695834000@campbell.k12.mn.us
SUMMARY:September 27 - National Guard 3rd hour - Juniors and Seniors
DESCRIPTION:
URL:https://campbell.k12.mn.us/event/september-27-national-guard-3rd-hour-juniors-and-seniors/
END:VEVENT
BEGIN:VEVENT
DTSTART;VALUE=DATE:20230928
DTEND;VALUE=DATE:20230929
DTSTAMP:20260424T044516
CREATED:20230922T170623Z
LAST-MODIFIED:20230922T170623Z
UID:5015-1695859200-1695945599@campbell.k12.mn.us
SUMMARY:Cross Country Lennox Invite
DESCRIPTION:Lennox SD
URL:https://campbell.k12.mn.us/event/cross-country-lennox-invite/
END:VEVENT
BEGIN:VEVENT
DTSTART;TZID=UTC:20230928T044500
DTEND;TZID=UTC:20230928T170000
DTSTAMP:20260424T044516
CREATED:20230922T170717Z
LAST-MODIFIED:20230926T204531Z
UID:5017-1695876300-1695920400@campbell.k12.mn.us
SUMMARY:Volleyball C\,JV\, V vs Florence/Henry (home)
DESCRIPTION:Rosholt High School
URL:https://campbell.k12.mn.us/event/volleyball-cjv-v-vs-florence-henry-home/
END:VEVENT
BEGIN:VEVENT
DTSTART;VALUE=DATE:20230930
DTEND;VALUE=DATE:20231001
DTSTAMP:20260424T044516
CREATED:20230922T170919Z
LAST-MODIFIED:20230922T170934Z
UID:5021-1696032000-1696118399@campbell.k12.mn.us
SUMMARY:Volleyball C\,JV\, V tournament vs Lisbon (away)
DESCRIPTION:At Lisbon High School
URL:https://campbell.k12.mn.us/event/volleyball-cjv-v-tournament-vs-lisbon-away/
END:VEVENT
BEGIN:VEVENT
DTSTART;TZID=UTC:20230930T100000
DTEND;TZID=UTC:20230930T170000
DTSTAMP:20260424T044516
CREATED:20230922T171029Z
LAST-MODIFIED:20230922T171029Z
UID:5023-1696068000-1696093200@campbell.k12.mn.us
SUMMARY:Cross Country Battle of the Borders Invite at Grand Forks
DESCRIPTION:Grand Forks ND
URL:https://campbell.k12.mn.us/event/cross-country-battle-of-the-borders-invite-at-grand-forks/
END:VEVENT
BEGIN:VEVENT
DTSTART;TZID=UTC:20230930T100000
DTEND;TZID=UTC:20230930T170000
DTSTAMP:20260424T044516
CREATED:20230922T171104Z
LAST-MODIFIED:20230922T171104Z
UID:5025-1696068000-1696093200@campbell.k12.mn.us
SUMMARY:Cross Country Wheaton Invite
DESCRIPTION:Wheaton MN
URL:https://campbell.k12.mn.us/event/cross-country-wheaton-invite/
END:VEVENT
END:VCALENDAR